BEGIN:VCALENDAR
VERSION:2.0
PRODID:-//Once Upon A Bookstore - ECPv6.15.20//NONSGML v1.0//EN
CALSCALE:GREGORIAN
METHOD:PUBLISH
X-ORIGINAL-URL:https://onceuponabookstore.com
X-WR-CALDESC:Events for Once Upon A Bookstore
REFRESH-INTERVAL;VALUE=DURATION:PT1H
X-Robots-Tag:noindex
X-PUBLISHED-TTL:PT1H
BEGIN:VTIMEZONE
TZID:America/New_York
BEGIN:DAYLIGHT
TZOFFSETFROM:-0500
TZOFFSETTO:-0400
TZNAME:EDT
DTSTART:20240310T070000
END:DAYLIGHT
BEGIN:STANDARD
TZOFFSETFROM:-0400
TZOFFSETTO:-0500
TZNAME:EST
DTSTART:20241103T060000
END:STANDARD
BEGIN:DAYLIGHT
TZOFFSETFROM:-0500
TZOFFSETTO:-0400
TZNAME:EDT
DTSTART:20250309T070000
END:DAYLIGHT
BEGIN:STANDARD
TZOFFSETFROM:-0400
TZOFFSETTO:-0500
TZNAME:EST
DTSTART:20251102T060000
END:STANDARD
BEGIN:DAYLIGHT
TZOFFSETFROM:-0500
TZOFFSETTO:-0400
TZNAME:EDT
DTSTART:20260308T070000
END:DAYLIGHT
BEGIN:STANDARD
TZOFFSETFROM:-0400
TZOFFSETTO:-0500
TZNAME:EST
DTSTART:20261101T060000
END:STANDARD
BEGIN:DAYLIGHT
TZOFFSETFROM:-0500
TZOFFSETTO:-0400
TZNAME:EDT
DTSTART:20270314T070000
END:DAYLIGHT
BEGIN:STANDARD
TZOFFSETFROM:-0400
TZOFFSETTO:-0500
TZNAME:EST
DTSTART:20271107T060000
END:STANDARD
END:VTIMEZONE
BEGIN:VEVENT
DTSTART;TZID=America/New_York:20250928T140000
DTEND;TZID=America/New_York:20250928T160000
DTSTAMP:20260424T054027
CREATED:20250904T154545Z
LAST-MODIFIED:20250904T154545Z
UID:1536-1759068000-1759075200@onceuponabookstore.com
SUMMARY:Author Talk with Kerri Maher
DESCRIPTION:Please join us for a book talk\, book signings\, & photos followed by a tea and macaron tasting.
URL:https://onceuponabookstore.com/event/author-talk-with-kerri-maher/
LOCATION:SoCo Art Labs\, 418 Quequechan St\, Fall River\, MA\, 02723\, United States
CATEGORIES:Author Talk
ATTACH;FMTTYPE=image/jpeg:https://onceuponabookstore.com/wp-content/uploads/2025/09/Once-Upon-A-Bookstore-Fall-River-Author-Talk-With-Kerri-Maher.jpg
ORGANIZER;CN="Once Upon A Bookstore":MAILTO:serena@onceuponabookstore.com
END:VEVENT
BEGIN:VEVENT
DTSTART;TZID=America/New_York:20251001T183000
DTEND;TZID=America/New_York:20251001T200000
DTSTAMP:20260424T054027
CREATED:20250904T154820Z
LAST-MODIFIED:20250914T190658Z
UID:1540-1759343400-1759348800@onceuponabookstore.com
SUMMARY:Author Talk with B.A. Shapiro
DESCRIPTION:Join Once Upon a Bookstore at the Greater Fall River Art Association to hear from and meet B.A. Shapiro!
URL:https://onceuponabookstore.com/event/author-talk-with-b-a-shapiro/
LOCATION:Greater Fall River Art Association\, 80 Belmont St\, Fall River\, MA\, 02720\, United States
CATEGORIES:Author Talk
ATTACH;FMTTYPE=image/jpeg:https://onceuponabookstore.com/wp-content/uploads/2025/09/Once-Upon-A-Bookstore-Fall-River-Author-Talk-With-BA-Shapiro.jpg
ORGANIZER;CN="Once Upon A Bookstore":MAILTO:serena@onceuponabookstore.com
END:VEVENT
BEGIN:VEVENT
DTSTART;TZID=America/New_York:20251005T110000
DTEND;TZID=America/New_York:20251005T120000
DTSTAMP:20260424T054027
CREATED:20250904T155121Z
LAST-MODIFIED:20250904T155121Z
UID:1545-1759662000-1759665600@onceuponabookstore.com
SUMMARY:Story Time with Amy Moore
DESCRIPTION:Join local author Amy Moore for some cozy stories followed by a craft.
URL:https://onceuponabookstore.com/event/story-time-with-amy-moore/
LOCATION:SoCo Art Labs\, 418 Quequechan St\, Fall River\, MA\, 02723\, United States
CATEGORIES:Author Talk,Craft Session
ATTACH;FMTTYPE=image/jpeg:https://onceuponabookstore.com/wp-content/uploads/2025/09/Once-Upon-A-Bookstore-Fall-River-Story-Time-With-Amy-Moore.jpg
ORGANIZER;CN="Once Upon A Bookstore":MAILTO:serena@onceuponabookstore.com
END:VEVENT
BEGIN:VEVENT
DTSTART;TZID=America/New_York:20251008T180000
DTEND;TZID=America/New_York:20251008T193000
DTSTAMP:20260424T054027
CREATED:20250907T013237Z
LAST-MODIFIED:20250907T013237Z
UID:1612-1759946400-1759951800@onceuponabookstore.com
SUMMARY:Author Talk with Michelle Conlan in conversation with Charlie L. Wood
DESCRIPTION:Hear from Michelle and Charlie\, followed by book signings\, photos\, music\, and more conversation.
URL:https://onceuponabookstore.com/event/author-talk-with-michelle-conlan-in-conversation-with-charlie-l-wood/
LOCATION:SoCo Art Labs\, 418 Quequechan St\, Fall River\, MA\, 02723\, United States
CATEGORIES:Author Talk
ATTACH;FMTTYPE=image/jpeg:https://onceuponabookstore.com/wp-content/uploads/2025/09/Once-Upon-A-Bookstore-Fall-River-Author-Talk-with-Michelle-Conlan-in-conversation-with-Charlie-L-Wood.jpg
ORGANIZER;CN="Once Upon A Bookstore":MAILTO:serena@onceuponabookstore.com
END:VEVENT
BEGIN:VEVENT
DTSTART;TZID=America/New_York:20251011T130000
DTEND;TZID=America/New_York:20251011T150000
DTSTAMP:20260424T054027
CREATED:20250904T155439Z
LAST-MODIFIED:20250904T155849Z
UID:1549-1760187600-1760194800@onceuponabookstore.com
SUMMARY:Silent Book Club 10th Anniversary Global Readathon
DESCRIPTION:Bring something to read\, and a chair or blanket\, to Fall River Heritage State Park on October 11th from 1-3.
URL:https://onceuponabookstore.com/event/silent-book-club-10th-anniversary-global-readathon/
LOCATION:Fall River Heritage State Park\, Davol Street\, Fall River\, MA\, 02720\, United States
CATEGORIES:Book Club
ATTACH;FMTTYPE=image/jpeg:https://onceuponabookstore.com/wp-content/uploads/2025/09/Once-Upon-A-Bookstore-Fall-River-Silent-Book-Club-10th-Anniversary.jpg
ORGANIZER;CN="Once Upon A Bookstore":MAILTO:serena@onceuponabookstore.com
END:VEVENT
BEGIN:VEVENT
DTSTART;TZID=America/New_York:20251012T140000
DTEND;TZID=America/New_York:20251012T160000
DTSTAMP:20260424T054027
CREATED:20250928T201154Z
LAST-MODIFIED:20250928T203342Z
UID:1681-1760277600-1760284800@onceuponabookstore.com
SUMMARY:Magic Woven Daily with Susan Drayton
DESCRIPTION:Learn how to find extraordinary in everyday life through accessible tools like journaling\, herbs\, chakras\, and embracing your inner child.
URL:https://onceuponabookstore.com/event/magic-woven-daily-with-susan-drayton/
LOCATION:SoCo Art Labs\, 418 Quequechan St\, Fall River\, MA\, 02723\, United States
CATEGORIES:Wellness
ATTACH;FMTTYPE=image/jpeg:https://onceuponabookstore.com/wp-content/uploads/2025/09/Once-Upon-A-Bookstore-Fall-River-Magic-Woven-Daily-with-Susan-Drayton.jpg
ORGANIZER;CN="Once Upon A Bookstore":MAILTO:serena@onceuponabookstore.com
END:VEVENT
BEGIN:VEVENT
DTSTART;TZID=America/New_York:20251016T183000
DTEND;TZID=America/New_York:20251016T200000
DTSTAMP:20260424T054027
CREATED:20250904T160127Z
LAST-MODIFIED:20250904T160127Z
UID:1555-1760639400-1760644800@onceuponabookstore.com
SUMMARY:Author Talk with Rachel Menard
DESCRIPTION:Join us for an author talk with Rachel Menard followed by character sketching.
URL:https://onceuponabookstore.com/event/author-talk-with-rachel-menard/
LOCATION:SoCo Art Labs\, 418 Quequechan St\, Fall River\, MA\, 02723\, United States
CATEGORIES:Author Talk
ATTACH;FMTTYPE=image/jpeg:https://onceuponabookstore.com/wp-content/uploads/2025/09/Once-Upon-A-Bookstore-Fall-River-Author-Talk-With-Rachel-Menard.jpg
ORGANIZER;CN="Once Upon A Bookstore":MAILTO:serena@onceuponabookstore.com
END:VEVENT
BEGIN:VEVENT
DTSTART;TZID=America/New_York:20251023T180000
DTEND;TZID=America/New_York:20251023T200000
DTSTAMP:20260424T054027
CREATED:20250904T160650Z
LAST-MODIFIED:20251019T164402Z
UID:1563-1761242400-1761249600@onceuponabookstore.com
SUMMARY:Book Club Tea with Emily Everett & Karen Dukess
DESCRIPTION:Join us for a book club chat of “All That Life Can Afford” with the author\, herself\, Emily Everett.
URL:https://onceuponabookstore.com/event/book-club-tea-with-emily-everett-karen-dukess/
LOCATION:SoCo Art Labs\, 418 Quequechan St\, Fall River\, MA\, 02723\, United States
CATEGORIES:Author Talk
ATTACH;FMTTYPE=image/jpeg:https://onceuponabookstore.com/wp-content/uploads/2025/09/Once-Upon-A-Bookstore-Fall-River-Book-Club-Tea-With-Emily-Everett-And-Karen-Dukes.jpg
ORGANIZER;CN="Once Upon A Bookstore":MAILTO:serena@onceuponabookstore.com
END:VEVENT
BEGIN:VEVENT
DTSTART;TZID=America/New_York:20251025T140000
DTEND;TZID=America/New_York:20251025T150000
DTSTAMP:20260424T054027
CREATED:20250904T161029Z
LAST-MODIFIED:20250904T161029Z
UID:1567-1761400800-1761404400@onceuponabookstore.com
SUMMARY:Block Island Books with Christa Carmen & Kristin Offiler
DESCRIPTION:Hear from local authors Christa Carmen and Kristin Offiler\, followed by signings and photos.
URL:https://onceuponabookstore.com/event/block-island-books-with-christa-carmen-kristin-offiler/
LOCATION:SoCo Art Labs\, 418 Quequechan St\, Fall River\, MA\, 02723\, United States
CATEGORIES:Author Talk
ATTACH;FMTTYPE=image/jpeg:https://onceuponabookstore.com/wp-content/uploads/2025/09/Once-Upon-A-Bookstore-Fall-River-Author-Talk-With-Christa-Carmen-And-Kristin-Offiler.jpg
ORGANIZER;CN="Once Upon A Bookstore":MAILTO:serena@onceuponabookstore.com
END:VEVENT
BEGIN:VEVENT
DTSTART;TZID=America/New_York:20251030T180000
DTEND;TZID=America/New_York:20251030T200000
DTSTAMP:20260424T054027
CREATED:20250904T153721Z
LAST-MODIFIED:20250904T153721Z
UID:1526-1761847200-1761854400@onceuponabookstore.com
SUMMARY:Once Upon a Silent Book Club
DESCRIPTION:Bring along whatever you are currently reading\, and join other readers for Fall River’s very own chapter of Silent Book Club.
URL:https://onceuponabookstore.com/event/once-upon-a-silent-book-club-2/
LOCATION:SoCo Art Labs\, 418 Quequechan St\, Fall River\, MA\, 02723\, United States
CATEGORIES:Book Club
ATTACH;FMTTYPE=image/jpeg:https://onceuponabookstore.com/wp-content/uploads/2025/09/Once-Upon-A-Bookstore-Fall-River-Silent-Book-Club.jpg
ORGANIZER;CN="Once Upon A Bookstore":MAILTO:serena@onceuponabookstore.com
END:VEVENT
BEGIN:VEVENT
DTSTART;TZID=America/New_York:20251101T180000
DTEND;TZID=America/New_York:20251101T193000
DTSTAMP:20260424T054027
CREATED:20250904T161331Z
LAST-MODIFIED:20251030T161318Z
UID:1571-1762020000-1762025400@onceuponabookstore.com
SUMMARY:Horror Author Talk Panel
DESCRIPTION:Extend spooky season with a horror panel featuring Brennan LaFaro\, Coey Farrenkopf\, Victoria Dalpe\, and Jason Parent.
URL:https://onceuponabookstore.com/event/horror-panel/
LOCATION:SoCo Art Labs\, 418 Quequechan St\, Fall River\, MA\, 02723\, United States
CATEGORIES:Author Talk
ATTACH;FMTTYPE=image/jpeg:https://onceuponabookstore.com/wp-content/uploads/2025/09/Once-Upon-A-Bookstore-Fall-River-Horror-Author-Talk-1.jpg
ORGANIZER;CN="Once Upon A Bookstore":MAILTO:serena@onceuponabookstore.com
END:VEVENT
BEGIN:VEVENT
DTSTART;TZID=America/New_York:20251102T140000
DTEND;TZID=America/New_York:20251102T150000
DTSTAMP:20260424T054027
CREATED:20250904T161538Z
LAST-MODIFIED:20250904T161538Z
UID:1575-1762092000-1762095600@onceuponabookstore.com
SUMMARY:Author Talk with Annie Hartnett
DESCRIPTION:Hear from national best selling author Annie Hartnett\, followed by signings and photos.
URL:https://onceuponabookstore.com/event/author-talk-with-annie-hartnett/
LOCATION:SoCo Art Labs\, 418 Quequechan St\, Fall River\, MA\, 02723\, United States
CATEGORIES:Author Talk
ATTACH;FMTTYPE=image/jpeg:https://onceuponabookstore.com/wp-content/uploads/2025/09/Once-Upon-A-Bookstore-Fall-River-Author-Talk-With-Annie-Hartnett.jpg
ORGANIZER;CN="Once Upon A Bookstore":MAILTO:serena@onceuponabookstore.com
END:VEVENT
BEGIN:VEVENT
DTSTART;TZID=America/New_York:20251108T110000
DTEND;TZID=America/New_York:20251108T120000
DTSTAMP:20260424T054027
CREATED:20250928T195120Z
LAST-MODIFIED:20250928T200411Z
UID:1677-1762599600-1762603200@onceuponabookstore.com
SUMMARY:Story Time with Hannah Chung
DESCRIPTION:Join us in celebrating Hannah’s new book\, “Bread Days” with some stories\, crafts\, and hands-on playing!
URL:https://onceuponabookstore.com/event/story-time-with-hannah-chung/
LOCATION:SoCo Art Labs\, 418 Quequechan St\, Fall River\, MA\, 02723\, United States
CATEGORIES:Story Time
ATTACH;FMTTYPE=image/jpeg:https://onceuponabookstore.com/wp-content/uploads/2025/09/Once-Upon-A-Bookstore-Fall-River-Story-Time-With-Hannah-Chung.jpg
ORGANIZER;CN="Once Upon A Bookstore":MAILTO:serena@onceuponabookstore.com
END:VEVENT
BEGIN:VEVENT
DTSTART;TZID=America/New_York:20251108T140000
DTEND;TZID=America/New_York:20251108T160000
DTSTAMP:20260424T054027
CREATED:20250928T194152Z
LAST-MODIFIED:20250928T194152Z
UID:1673-1762610400-1762617600@onceuponabookstore.com
SUMMARY:Manga Mania with Taylor Silva
DESCRIPTION:Celebrate the release of volume 110 of One Piece with manga expert Taylor Silva. Learn facts\, play games\, and eat themed treats!
URL:https://onceuponabookstore.com/event/manga-mania-with-taylor-silva/
LOCATION:SoCo Art Labs\, 418 Quequechan St\, Fall River\, MA\, 02723\, United States
CATEGORIES:Book Release
ATTACH;FMTTYPE=image/jpeg:https://onceuponabookstore.com/wp-content/uploads/2025/09/Once-Upon-A-Bookstore-Fall-River-Manga-Mania-with-Taylor-Silva.jpg
ORGANIZER;CN="Once Upon A Bookstore":MAILTO:serena@onceuponabookstore.com
END:VEVENT
BEGIN:VEVENT
DTSTART;TZID=America/New_York:20251109T140000
DTEND;TZID=America/New_York:20251109T153000
DTSTAMP:20260424T054027
CREATED:20250907T013554Z
LAST-MODIFIED:20250928T181114Z
UID:1616-1762696800-1762702200@onceuponabookstore.com
SUMMARY:Author Talk with Avery Motta in conversation with Jenny L. Howe
DESCRIPTION:Hear from Avery and Jenny\, followed by book signings\, photos\, music\, and more conversation.
URL:https://onceuponabookstore.com/event/author-talk-with-avery-motta-in-conversation-with-jenny-l-howe/
LOCATION:SoCo Art Labs\, 418 Quequechan St\, Fall River\, MA\, 02723\, United States
CATEGORIES:Author Talk
ATTACH;FMTTYPE=image/jpeg:https://onceuponabookstore.com/wp-content/uploads/2025/09/Once-Upon-A-Bookstore-Fall-River-Author-Talk-with-Avery-Motta-in-conversation-with-Jenny-L-Howe.jpg
ORGANIZER;CN="Once Upon A Bookstore":MAILTO:serena@onceuponabookstore.com
END:VEVENT
BEGIN:VEVENT
DTSTART;TZID=America/New_York:20251111T090000
DTEND;TZID=America/New_York:20251111T190000
DTSTAMP:20260424T054027
CREATED:20250928T184411Z
LAST-MODIFIED:20250928T184802Z
UID:1669-1762851600-1762887600@onceuponabookstore.com
SUMMARY:Dog Man: Big Jim Believes Release Party
DESCRIPTION:Join us all day in celebrating Dog Man with his latest book\, games\, and activities.
URL:https://onceuponabookstore.com/event/dog-man-big-jim-believes-release-party/
LOCATION:SoCo Art Labs\, 418 Quequechan St\, Fall River\, MA\, 02723\, United States
CATEGORIES:Book Release
ATTACH;FMTTYPE=image/jpeg:https://onceuponabookstore.com/wp-content/uploads/2025/09/Once-Upon-A-Bookstore-Fall-River-Dog-Man-Big-Jim-Believes-Release-Party.jpg
ORGANIZER;CN="Once Upon A Bookstore":MAILTO:serena@onceuponabookstore.com
END:VEVENT
BEGIN:VEVENT
DTSTART;TZID=America/New_York:20251113T180000
DTEND;TZID=America/New_York:20251113T200000
DTSTAMP:20260424T054027
CREATED:20250928T182346Z
LAST-MODIFIED:20250928T182346Z
UID:1661-1763056800-1763064000@onceuponabookstore.com
SUMMARY:Clay McLeod Chapman in conversation with Christa Carmen
DESCRIPTION:Join dynamic\, talented horror authors Clay McLeod Chapman and Christa Carmen for conversation\, questions\, signings\, and photos.
URL:https://onceuponabookstore.com/event/clay-mcleod-chapman-in-conversation-with-christa-carmen/
LOCATION:SoCo Art Labs\, 418 Quequechan St\, Fall River\, MA\, 02723\, United States
CATEGORIES:Author Talk
ATTACH;FMTTYPE=image/jpeg:https://onceuponabookstore.com/wp-content/uploads/2025/09/Once-Upon-A-Bookstore-Fall-River-Author-Talk-With-Clay-McLeod-Chapman-in-conversation-with-Christa-Carmen.jpg
ORGANIZER;CN="Once Upon A Bookstore":MAILTO:serena@onceuponabookstore.com
END:VEVENT
BEGIN:VEVENT
DTSTART;TZID=America/New_York:20251116T140000
DTEND;TZID=America/New_York:20251116T153000
DTSTAMP:20260424T054027
CREATED:20250928T183456Z
LAST-MODIFIED:20250928T183944Z
UID:1665-1763301600-1763307000@onceuponabookstore.com
SUMMARY:Author Talk with Emily Franklin
DESCRIPTION:Join us for conversation\, anecdotes\, questions\, and book signings with author Emily Franklin.
URL:https://onceuponabookstore.com/event/author-talk-with-emily-franklin/
LOCATION:SoCo Art Labs\, 418 Quequechan St\, Fall River\, MA\, 02723\, United States
CATEGORIES:Author Talk
ATTACH;FMTTYPE=image/jpeg:https://onceuponabookstore.com/wp-content/uploads/2025/09/Once-Upon-A-Bookstore-Fall-River-Author-Talk-With-Emily-Franklin.jpg
ORGANIZER;CN="Once Upon A Bookstore":MAILTO:serena@onceuponabookstore.com
END:VEVENT
BEGIN:VEVENT
DTSTART;TZID=America/New_York:20251119T183000
DTEND;TZID=America/New_York:20251119T200000
DTSTAMP:20260424T054027
CREATED:20251029T193123Z
LAST-MODIFIED:20251029T193123Z
UID:1715-1763577000-1763582400@onceuponabookstore.com
SUMMARY:Horror Author Talk Panel
DESCRIPTION:Join us for our second horror panel featuring Rory Power\, Ricardo Rebelo\, Errick Nunnally\, and Tabitha Winters.
URL:https://onceuponabookstore.com/event/horror-author-talk-panel/
LOCATION:SoCo Art Labs\, 418 Quequechan St\, Fall River\, MA\, 02723\, United States
CATEGORIES:Author Talk
ATTACH;FMTTYPE=image/jpeg:https://onceuponabookstore.com/wp-content/uploads/2025/10/Once-Upon-A-Bookstore-Fall-River-Horror-Author-Talk-Panel-2.jpg
ORGANIZER;CN="Once Upon A Bookstore":MAILTO:serena@onceuponabookstore.com
END:VEVENT
BEGIN:VEVENT
DTSTART;TZID=America/New_York:20251122T140000
DTEND;TZID=America/New_York:20251122T153000
DTSTAMP:20260424T054027
CREATED:20251029T193418Z
LAST-MODIFIED:20251029T193418Z
UID:1719-1763820000-1763825400@onceuponabookstore.com
SUMMARY:Namrata Patel in conversation with Sara Shukla
DESCRIPTION:Join us in celebrating the release of Namrata Patel’s new book: Your Next Life Is Now with two talented local authors.
URL:https://onceuponabookstore.com/event/namrata-patel-in-conversation-with-sara-shukla/
LOCATION:SoCo Art Labs\, 418 Quequechan St\, Fall River\, MA\, 02723\, United States
CATEGORIES:Author Talk
ATTACH;FMTTYPE=image/jpeg:https://onceuponabookstore.com/wp-content/uploads/2025/10/Once-Upon-A-Bookstore-Fall-River-Author-Talk-With-Namrata-Patel-In-Conversation-With-Sara-Shukla.jpg
ORGANIZER;CN="Once Upon A Bookstore":MAILTO:serena@onceuponabookstore.com
END:VEVENT
BEGIN:VEVENT
DTSTART;TZID=America/New_York:20251129T170000
DTEND;TZID=America/New_York:20251129T210000
DTSTAMP:20260424T054027
CREATED:20251029T193741Z
LAST-MODIFIED:20251029T193741Z
UID:1723-1764435600-1764450000@onceuponabookstore.com
SUMMARY:Small Business Saturday
DESCRIPTION:Get out of the house to shop local and check out the grand reveal of Blind Dates with a Book\, Femme de Bloom jewelry\, and holiday books!
URL:https://onceuponabookstore.com/event/small-business-saturday/
LOCATION:SoCo Art Labs\, 418 Quequechan St\, Fall River\, MA\, 02723\, United States
CATEGORIES:Holiday Shopping
ATTACH;FMTTYPE=image/jpeg:https://onceuponabookstore.com/wp-content/uploads/2025/10/Once-Upon-A-Bookstore-Fall-River-Small-Business-Saturday.jpg
ORGANIZER;CN="Once Upon A Bookstore":MAILTO:serena@onceuponabookstore.com
END:VEVENT
BEGIN:VEVENT
DTSTART;TZID=America/New_York:20251204T180000
DTEND;TZID=America/New_York:20251204T200000
DTSTAMP:20260424T054027
CREATED:20251029T195207Z
LAST-MODIFIED:20251029T195207Z
UID:1730-1764871200-1764878400@onceuponabookstore.com
SUMMARY:Book Tastings: the Christmas Edition
DESCRIPTION:Join us to read and taste a bit of each book! Hot chocolate will be provided\, bring any other beverages you would like.
URL:https://onceuponabookstore.com/event/book-tastings-the-christmas-edition/
LOCATION:SoCo Art Labs\, 418 Quequechan St\, Fall River\, MA\, 02723\, United States
CATEGORIES:Holiday Shopping
ATTACH;FMTTYPE=image/jpeg:https://onceuponabookstore.com/wp-content/uploads/2025/10/Once-Upon-A-Bookstore-Fall-River-Book-Tastings-the-Christmas-Edition.jpg
ORGANIZER;CN="Once Upon A Bookstore":MAILTO:serena@onceuponabookstore.com
END:VEVENT
BEGIN:VEVENT
DTSTART;TZID=America/New_York:20251206T100000
DTEND;TZID=America/New_York:20251206T110000
DTSTAMP:20260424T054027
CREATED:20251029T195455Z
LAST-MODIFIED:20251029T195609Z
UID:1734-1765015200-1765018800@onceuponabookstore.com
SUMMARY:Story Time with Mrs. Claus
DESCRIPTION:Join us for stories\, songs\, and cookies!
URL:https://onceuponabookstore.com/event/story-time-with-mrs-claus/
LOCATION:SoCo Art Labs\, 418 Quequechan St\, Fall River\, MA\, 02723\, United States
CATEGORIES:Story Time
ATTACH;FMTTYPE=image/jpeg:https://onceuponabookstore.com/wp-content/uploads/2025/10/Once-Upon-A-Bookstore-Fall-River-Story-Time-With-Mrs.-Claus.jpg
ORGANIZER;CN="Once Upon A Bookstore":MAILTO:serena@onceuponabookstore.com
END:VEVENT
BEGIN:VEVENT
DTSTART;TZID=America/New_York:20251206T140000
DTEND;TZID=America/New_York:20251206T160000
DTSTAMP:20260424T054027
CREATED:20251029T200502Z
LAST-MODIFIED:20251029T200502Z
UID:1742-1765029600-1765036800@onceuponabookstore.com
SUMMARY:Romance Author Panel
DESCRIPTION:Join romance authors AA DaSilva\, Hannah Goodman\, and Kade Charest for conversation\, questions\, and book signings!
URL:https://onceuponabookstore.com/event/romance-author-panel/
LOCATION:SoCo Art Labs\, 418 Quequechan St\, Fall River\, MA\, 02723\, United States
CATEGORIES:Author Talk
ATTACH;FMTTYPE=image/jpeg:https://onceuponabookstore.com/wp-content/uploads/2025/10/Once-Upon-A-Bookstore-Fall-River-Romance-Author-Panel.jpg
ORGANIZER;CN="Once Upon A Bookstore":MAILTO:serena@onceuponabookstore.com
END:VEVENT
BEGIN:VEVENT
DTSTART;TZID=America/New_York:20251207T140000
DTEND;TZID=America/New_York:20251207T153000
DTSTAMP:20260424T054027
CREATED:20251029T195748Z
LAST-MODIFIED:20251029T195748Z
UID:1738-1765116000-1765121400@onceuponabookstore.com
SUMMARY:Vanessa Lillie in conversation with Raemi Ray
DESCRIPTION:Celebrate Vanessa Lillie’s latest release\, “The Bone Thief” in conversation with Raemi Ray. Join this thriller-esque discussion with cocoa!
URL:https://onceuponabookstore.com/event/vanessa-lillie-in-conversation-with-raemi-ray/
LOCATION:SoCo Art Labs\, 418 Quequechan St\, Fall River\, MA\, 02723\, United States
ATTACH;FMTTYPE=image/jpeg:https://onceuponabookstore.com/wp-content/uploads/2025/10/Once-Upon-A-Bookstore-Fall-River-Vanessa-Lillie-in-conversation-with-Raemi-Ray.jpg
ORGANIZER;CN="Once Upon A Bookstore":MAILTO:serena@onceuponabookstore.com
END:VEVENT
BEGIN:VEVENT
DTSTART;TZID=America/New_York:20251210T180000
DTEND;TZID=America/New_York:20251210T200000
DTSTAMP:20260424T054027
CREATED:20251029T200749Z
LAST-MODIFIED:20251029T200749Z
UID:1746-1765389600-1765396800@onceuponabookstore.com
SUMMARY:Bookpage Origami Wreaths
DESCRIPTION:Let’s make something beautiful out of those book that have just been a little too loved…
URL:https://onceuponabookstore.com/event/bookpage-origami-wreaths/
LOCATION:SoCo Art Labs\, 418 Quequechan St\, Fall River\, MA\, 02723\, United States
CATEGORIES:Craft Session
ATTACH;FMTTYPE=image/jpeg:https://onceuponabookstore.com/wp-content/uploads/2025/10/Once-Upon-A-Bookstore-Fall-River-Bookpage-Origami-Wreaths.jpg
ORGANIZER;CN="Once Upon A Bookstore":MAILTO:serena@onceuponabookstore.com
END:VEVENT
BEGIN:VEVENT
DTSTART;TZID=America/New_York:20251211T180000
DTEND;TZID=America/New_York:20251211T200000
DTSTAMP:20260424T054027
CREATED:20251029T201008Z
LAST-MODIFIED:20251029T201008Z
UID:1750-1765476000-1765483200@onceuponabookstore.com
SUMMARY:Bedazzle a Book!
DESCRIPTION:Bring your favorite book\, or buy one at the store\, and give it a little sparkle! Please bring your own beverage of choice as well.
URL:https://onceuponabookstore.com/event/bedazzle-a-book/
LOCATION:SoCo Art Labs\, 418 Quequechan St\, Fall River\, MA\, 02723\, United States
CATEGORIES:Craft Session
ATTACH;FMTTYPE=image/jpeg:https://onceuponabookstore.com/wp-content/uploads/2025/10/Once-Upon-A-Bookstore-Fall-River-Bedazzle-a-Book.jpg
ORGANIZER;CN="Once Upon A Bookstore":MAILTO:serena@onceuponabookstore.com
END:VEVENT
BEGIN:VEVENT
DTSTART;TZID=America/New_York:20251214T100000
DTEND;TZID=America/New_York:20251214T113000
DTSTAMP:20260424T054027
CREATED:20251029T201215Z
LAST-MODIFIED:20251029T201215Z
UID:1754-1765706400-1765711800@onceuponabookstore.com
SUMMARY:Gingerbread Story Time
DESCRIPTION:Join us for stories and a STEM activity with gingerbread playdough!
URL:https://onceuponabookstore.com/event/gingerbread-story-time/
LOCATION:SoCo Art Labs\, 418 Quequechan St\, Fall River\, MA\, 02723\, United States
CATEGORIES:Craft Session
ATTACH;FMTTYPE=image/jpeg:https://onceuponabookstore.com/wp-content/uploads/2025/10/Once-Upon-A-Bookstore-Fall-River-Gingerbread-Story-Time.jpg
ORGANIZER;CN="Once Upon A Bookstore":MAILTO:serena@onceuponabookstore.com
END:VEVENT
BEGIN:VEVENT
DTSTART;TZID=America/New_York:20251218T180000
DTEND;TZID=America/New_York:20251218T200000
DTSTAMP:20260424T054027
CREATED:20251029T201815Z
LAST-MODIFIED:20251029T201815Z
UID:1758-1766080800-1766088000@onceuponabookstore.com
SUMMARY:Once Upon a Silent Book Club
DESCRIPTION:Bring along whatever you are currently reading\, and join other readers for Fall River’s very own chapter of Silent Book Club.
URL:https://onceuponabookstore.com/event/once-upon-a-silent-book-club-3/
LOCATION:SoCo Art Labs\, 418 Quequechan St\, Fall River\, MA\, 02723\, United States
CATEGORIES:Book Club
ATTACH;FMTTYPE=image/jpeg:https://onceuponabookstore.com/wp-content/uploads/2025/09/Once-Upon-A-Bookstore-Fall-River-Silent-Book-Club.jpg
ORGANIZER;CN="Once Upon A Bookstore":MAILTO:serena@onceuponabookstore.com
END:VEVENT
BEGIN:VEVENT
DTSTART;TZID=America/New_York:20260103T100000
DTEND;TZID=America/New_York:20260103T113000
DTSTAMP:20260424T054027
CREATED:20251210T214056Z
LAST-MODIFIED:20251210T214236Z
UID:1763-1767434400-1767439800@onceuponabookstore.com
SUMMARY:Lego Build!
DESCRIPTION:Join us for some fun winter building prompts!
URL:https://onceuponabookstore.com/event/lego-build/
LOCATION:SoCo Art Labs\, 418 Quequechan St\, Fall River\, MA\, 02723\, United States
CATEGORIES:Craft Session
ATTACH;FMTTYPE=image/jpeg:https://onceuponabookstore.com/wp-content/uploads/2025/12/Once-Upon-A-Bookstore-Fall-River-Lego-Build.jpg
ORGANIZER;CN="Once Upon A Bookstore":MAILTO:serena@onceuponabookstore.com
END:VEVENT
END:VCALENDAR