BEGIN:VCALENDAR
VERSION:2.0
PRODID:-//Once Upon A Bookstore - ECPv6.15.20//NONSGML v1.0//EN
CALSCALE:GREGORIAN
METHOD:PUBLISH
X-WR-CALNAME:Once Upon A Bookstore
X-ORIGINAL-URL:https://onceuponabookstore.com
X-WR-CALDESC:Events for Once Upon A Bookstore
REFRESH-INTERVAL;VALUE=DURATION:PT1H
X-Robots-Tag:noindex
X-PUBLISHED-TTL:PT1H
BEGIN:VTIMEZONE
TZID:America/New_York
BEGIN:DAYLIGHT
TZOFFSETFROM:-0500
TZOFFSETTO:-0400
TZNAME:EDT
DTSTART:20250309T070000
END:DAYLIGHT
BEGIN:STANDARD
TZOFFSETFROM:-0400
TZOFFSETTO:-0500
TZNAME:EST
DTSTART:20251102T060000
END:STANDARD
BEGIN:DAYLIGHT
TZOFFSETFROM:-0500
TZOFFSETTO:-0400
TZNAME:EDT
DTSTART:20260308T070000
END:DAYLIGHT
BEGIN:STANDARD
TZOFFSETFROM:-0400
TZOFFSETTO:-0500
TZNAME:EST
DTSTART:20261101T060000
END:STANDARD
BEGIN:DAYLIGHT
TZOFFSETFROM:-0500
TZOFFSETTO:-0400
TZNAME:EDT
DTSTART:20270314T070000
END:DAYLIGHT
BEGIN:STANDARD
TZOFFSETFROM:-0400
TZOFFSETTO:-0500
TZNAME:EST
DTSTART:20271107T060000
END:STANDARD
END:VTIMEZONE
BEGIN:VEVENT
DTSTART;TZID=America/New_York:20260419T140000
DTEND;TZID=America/New_York:20260419T160000
DTSTAMP:20260423T200914
CREATED:20260407T224254Z
LAST-MODIFIED:20260407T224254Z
UID:2074-1776607200-1776614400@onceuponabookstore.com
SUMMARY:Spin A Yarn
DESCRIPTION:Bring your knitting or crocheting for a cozy evening at the bookstore.
URL:https://onceuponabookstore.com/event/spin-a-yarn-4/
LOCATION:SoCo Art Labs\, 418 Quequechan St\, Fall River\, MA\, 02723\, United States
CATEGORIES:Knitting or Crocheting
ATTACH;FMTTYPE=image/jpeg:https://onceuponabookstore.com/wp-content/uploads/2026/04/Once-Upon-A-Bookstore-Fall-River-Spin-A-Yarn-April-19-2026.jpg
ORGANIZER;CN="Once Upon A Bookstore":MAILTO:serena@onceuponabookstore.com
END:VEVENT
BEGIN:VEVENT
DTSTART;TZID=America/New_York:20260419T140000
DTEND;TZID=America/New_York:20260419T170000
DTSTAMP:20260423T200914
CREATED:20260215T013050Z
LAST-MODIFIED:20260215T013050Z
UID:1994-1776607200-1776618000@onceuponabookstore.com
SUMMARY:Tarot Readings with Scott Panella
DESCRIPTION:Reserve your spot for a tarot reading with resident reader: Scott Panella.
URL:https://onceuponabookstore.com/event/tarot-readings-with-scott-panella/
LOCATION:SoCo Art Labs\, 418 Quequechan St\, Fall River\, MA\, 02723\, United States
CATEGORIES:Tarot Readings
ATTACH;FMTTYPE=image/jpeg:https://onceuponabookstore.com/wp-content/uploads/2026/02/Once-Upon-A-Bookstore-Fall-River-Tarot-Readings-With-Scott-Panella-April-2026.jpg
ORGANIZER;CN="Once Upon A Bookstore":MAILTO:serena@onceuponabookstore.com
END:VEVENT
BEGIN:VEVENT
DTSTART;TZID=America/New_York:20260422T183000
DTEND;TZID=America/New_York:20260422T200000
DTSTAMP:20260423T200914
CREATED:20260123T221731Z
LAST-MODIFIED:20260215T013301Z
UID:1860-1776882600-1776888000@onceuponabookstore.com
SUMMARY:Midlife Princess Party with Jennifer Safrey
DESCRIPTION:Join us for a Midlife Princess Party as Jennifer crowns audience members for sharing their Princess in Rebellion moments.
URL:https://onceuponabookstore.com/event/midlife-princess-party-with-jennifer-safrey/
LOCATION:SoCo Art Labs\, 418 Quequechan St\, Fall River\, MA\, 02723\, United States
CATEGORIES:Author Talk
ATTACH;FMTTYPE=image/jpeg:https://onceuponabookstore.com/wp-content/uploads/2026/01/Once-Upon-A-Bookstore-Fall-River-Midlife-Princess-Party-With-Jennifer-Safrey-April-2026.jpg
ORGANIZER;CN="Once Upon A Bookstore":MAILTO:serena@onceuponabookstore.com
END:VEVENT
BEGIN:VEVENT
DTSTART;TZID=America/New_York:20260424T183000
DTEND;TZID=America/New_York:20260424T203000
DTSTAMP:20260423T200914
CREATED:20260407T200403Z
LAST-MODIFIED:20260407T202414Z
UID:2025-1777055400-1777062600@onceuponabookstore.com
SUMMARY:Food for Thought: Kitchen Witchery for Modern Life
DESCRIPTION:We’ll explore how intention\, herbs\, food\, and everyday routines can become powerful spiritual tools. Learn how to infuse meals with purpose. \n\n\n\n\nCurious about Kitchen Witchery but not sure where to begin? This fun and approachable lecture-style workshop breaks down the basic principles of working magic in your kitchen — without complicated rituals or intimidating rules. \nWe’ll explore how intention\, herbs\, food\, and everyday routines can become powerful spiritual tools. You’ll learn how to infuse meals with purpose\, turn morning coffee into ritual\, and reconnect with the sacred energy already living in your home. \nNo experience necessary — just bring your curiosity (and maybe your love of good food).
URL:https://onceuponabookstore.com/event/food-for-thought-kitchen-witchery-for-modern-life/
LOCATION:SoCo Art Labs\, 418 Quequechan St\, Fall River\, MA\, 02723\, United States
CATEGORIES:Workshop
ATTACH;FMTTYPE=image/jpeg:https://onceuponabookstore.com/wp-content/uploads/2026/04/Once-Upon-A-Bookstore-Fall-River-Food-for-Thought-Kitchen-Witchery-for-Modern-Life.jpg
ORGANIZER;CN="Once Upon A Bookstore":MAILTO:serena@onceuponabookstore.com
END:VEVENT
BEGIN:VEVENT
DTSTART;TZID=America/New_York:20260425T090000
DTEND;TZID=America/New_York:20260425T200000
DTSTAMP:20260423T200914
CREATED:20260407T201655Z
LAST-MODIFIED:20260407T205206Z
UID:2039-1777107600-1777147200@onceuponabookstore.com
SUMMARY:Independent Bookstore Day
DESCRIPTION:Celebrate all day with a Book Wizard\, crafts\, raffles\, and a Book Witch! Shop small and support our community. \n\n\n\n\n10:00 AM – 12:00 PM Visit the Book Wizard for magical book recommendations. \n1:00 PM – 3:00 PM Make a book page rose at the craft station. \n3:00 PM – 5:00 PM Visit the Book Witch for spellbinding book recommendations. \nALL DAY: Raffles for kids and adults\, genre inspired biscotti by Songbird Sourdough!
URL:https://onceuponabookstore.com/event/independent-bookstore-day/
LOCATION:SoCo Art Labs\, 418 Quequechan St\, Fall River\, MA\, 02723\, United States
CATEGORIES:Independent Bookstore Day
ATTACH;FMTTYPE=image/jpeg:https://onceuponabookstore.com/wp-content/uploads/2026/04/Once-Upon-A-Bookstore-Fall-River-Celebrate-Independent-Bookstore-Day.jpg
ORGANIZER;CN="Once Upon A Bookstore":MAILTO:serena@onceuponabookstore.com
END:VEVENT
BEGIN:VEVENT
DTSTART;TZID=America/New_York:20260426T140000
DTEND;TZID=America/New_York:20260426T153000
DTSTAMP:20260423T200914
CREATED:20260407T233401Z
LAST-MODIFIED:20260407T233401Z
UID:2106-1777212000-1777217400@onceuponabookstore.com
SUMMARY:Bake It Till You Make It with Dayna Altman
DESCRIPTION:Learn how to use food and baking to harvest authentic mental health conversation in the kitchen\, around the table and beyond.
URL:https://onceuponabookstore.com/event/bake-it-till-you-make-it-with-dayna-altman/
LOCATION:SoCo Art Labs\, 418 Quequechan St\, Fall River\, MA\, 02723\, United States
CATEGORIES:Book Tastings
ATTACH;FMTTYPE=image/jpeg:https://onceuponabookstore.com/wp-content/uploads/2026/04/Once-Upon-A-Bookstore-Fall-River-Bake-It-Till-You-Make-It-with-Dayna-Altman.jpg
ORGANIZER;CN="Once Upon A Bookstore":MAILTO:serena@onceuponabookstore.com
END:VEVENT
BEGIN:VEVENT
DTSTART;TZID=America/New_York:20260430T180000
DTEND;TZID=America/New_York:20260430T200000
DTSTAMP:20260423T200914
CREATED:20260407T201035Z
LAST-MODIFIED:20260407T202321Z
UID:2029-1777572000-1777579200@onceuponabookstore.com
SUMMARY:Once Upon a Silent Book Club
DESCRIPTION:Join us for Silent Book Club at Fall River Family Picnic Grove. Bring a blanket or chair and something to read!
URL:https://onceuponabookstore.com/event/once-upon-a-silent-book-club-7/
LOCATION:Fall River Family Picnic Grove\, 994 Jefferson St Ext\, Fall River\, MA\, 02721\, United States
CATEGORIES:Book Club
ATTACH;FMTTYPE=image/jpeg:https://onceuponabookstore.com/wp-content/uploads/2026/04/Once-Upon-A-Bookstore-Fall-River-Silent-Book-Club-April-30-2026.jpg
ORGANIZER;CN="Once Upon A Bookstore":MAILTO:serena@onceuponabookstore.com
END:VEVENT
BEGIN:VEVENT
DTSTART;TZID=America/New_York:20260501T183000
DTEND;TZID=America/New_York:20260501T200000
DTSTAMP:20260423T200914
CREATED:20260407T201332Z
LAST-MODIFIED:20260407T201515Z
UID:2035-1777660200-1777665600@onceuponabookstore.com
SUMMARY:Board Game Night
DESCRIPTION:Drop in and play! Choose from a board game at the store or bring your own. Tea and water will be served but you are welcome to bring snacks
URL:https://onceuponabookstore.com/event/board-game-night-4/
LOCATION:SoCo Art Labs\, 418 Quequechan St\, Fall River\, MA\, 02723\, United States
CATEGORIES:Board Game Night
ATTACH;FMTTYPE=image/jpeg:https://onceuponabookstore.com/wp-content/uploads/2026/04/Once-Upon-A-Bookstore-Fall-River-Board-Game-Night-May-1-2026.jpg
ORGANIZER;CN="Once Upon A Bookstore":MAILTO:serena@onceuponabookstore.com
END:VEVENT
BEGIN:VEVENT
DTSTART;TZID=America/New_York:20260503T100000
DTEND;TZID=America/New_York:20260503T110000
DTSTAMP:20260423T200914
CREATED:20260407T222734Z
LAST-MODIFIED:20260407T222830Z
UID:2054-1777802400-1777806000@onceuponabookstore.com
SUMMARY:Children's Picture Book Swap
DESCRIPTION:Bring 2-3 gently used picture books to swap. Leave with some “new to you” books of your choosing. This swap is for children.
URL:https://onceuponabookstore.com/event/childrens-picture-book-swap/
LOCATION:SoCo Art Labs\, 418 Quequechan St\, Fall River\, MA\, 02723\, United States
CATEGORIES:Book Swap
ATTACH;FMTTYPE=image/jpeg:https://onceuponabookstore.com/wp-content/uploads/2026/04/Once-Upon-A-Bookstore-Fall-River-Childrens-Picture-Book-Swap.jpg
ORGANIZER;CN="Once Upon A Bookstore":MAILTO:serena@onceuponabookstore.com
END:VEVENT
BEGIN:VEVENT
DTSTART;TZID=America/New_York:20260503T140000
DTEND;TZID=America/New_York:20260503T153000
DTSTAMP:20260423T200914
CREATED:20260407T210053Z
LAST-MODIFIED:20260407T210849Z
UID:2045-1777816800-1777822200@onceuponabookstore.com
SUMMARY:An Immersive Book Talk with Heidi Chiavaroli
DESCRIPTION:Join Heidi for three courses of tea and scones with clotted cream and jam at the Lafayette-Durfee House.
URL:https://onceuponabookstore.com/event/an-immersive-book-talk-with-heidi-chiavaroli/
LOCATION:Lafayette-Durfee House\, 94 Cherry Street\, Fall River\, MA\, 02722\, United States
CATEGORIES:Author Talk
ATTACH;FMTTYPE=image/jpeg:https://onceuponabookstore.com/wp-content/uploads/2026/04/Once-Upon-A-Bookstore-Fall-River-An-Immersive-Book-Talk-with-Heidi-Chiavaroli.jpg
ORGANIZER;CN="Once Upon A Bookstore":MAILTO:serena@onceuponabookstore.com
END:VEVENT
BEGIN:VEVENT
DTSTART;TZID=America/New_York:20260507T183000
DTEND;TZID=America/New_York:20260507T200000
DTSTAMP:20260423T200914
CREATED:20260407T223024Z
LAST-MODIFIED:20260407T223024Z
UID:2058-1778178600-1778184000@onceuponabookstore.com
SUMMARY:BRAVE Letter Writing Project
DESCRIPTION:BRAVE aims to display appreciation towards veterans in improving the well-being of former service men and women. Join us in writing letters.
URL:https://onceuponabookstore.com/event/brave-letter-writing-project/
LOCATION:SoCo Art Labs\, 418 Quequechan St\, Fall River\, MA\, 02723\, United States
CATEGORIES:Writing Group
ATTACH;FMTTYPE=image/jpeg:https://onceuponabookstore.com/wp-content/uploads/2026/04/Once-Upon-A-Bookstore-Fall-River-BRAVE-Letter-Writing-Project.jpg
ORGANIZER;CN="Once Upon A Bookstore":MAILTO:serena@onceuponabookstore.com
END:VEVENT
BEGIN:VEVENT
DTSTART;TZID=America/New_York:20260513T183000
DTEND;TZID=America/New_York:20260513T200000
DTSTAMP:20260423T200914
CREATED:20260407T224008Z
LAST-MODIFIED:20260407T224008Z
UID:2070-1778697000-1778702400@onceuponabookstore.com
SUMMARY:Spin A Yarn
DESCRIPTION:Bring your knitting or crocheting for a cozy evening at the bookstore.
URL:https://onceuponabookstore.com/event/spin-a-yarn-3/
LOCATION:SoCo Art Labs\, 418 Quequechan St\, Fall River\, MA\, 02723\, United States
CATEGORIES:Knitting or Crocheting
ATTACH;FMTTYPE=image/jpeg:https://onceuponabookstore.com/wp-content/uploads/2026/04/Once-Upon-A-Bookstore-Fall-River-Spin-A-Yarn-May-13-2026.jpg
ORGANIZER;CN="Once Upon A Bookstore":MAILTO:serena@onceuponabookstore.com
END:VEVENT
BEGIN:VEVENT
DTSTART;TZID=America/New_York:20260515T183000
DTEND;TZID=America/New_York:20260515T200000
DTSTAMP:20260423T200914
CREATED:20260407T223302Z
LAST-MODIFIED:20260407T223302Z
UID:2062-1778869800-1778875200@onceuponabookstore.com
SUMMARY:Romance Panel
DESCRIPTION:Join us for a Romance Panel featuring Jenn Bouchard\, Kade Charest\, A.A. DaSilva\, and Hannah R. Goodman.
URL:https://onceuponabookstore.com/event/romance-panel/
LOCATION:SoCo Art Labs\, 418 Quequechan St\, Fall River\, MA\, 02723\, United States
CATEGORIES:Author Talk
ATTACH;FMTTYPE=image/jpeg:https://onceuponabookstore.com/wp-content/uploads/2026/04/Once-Upon-A-Bookstore-Fall-River-Romance-Panel.jpg
ORGANIZER;CN="Once Upon A Bookstore":MAILTO:serena@onceuponabookstore.com
END:VEVENT
BEGIN:VEVENT
DTSTART;TZID=America/New_York:20260517T100000
DTEND;TZID=America/New_York:20260517T110000
DTSTAMP:20260423T200914
CREATED:20260407T223554Z
LAST-MODIFIED:20260407T223554Z
UID:2066-1779012000-1779015600@onceuponabookstore.com
SUMMARY:Middle Grade Book Swap
DESCRIPTION:Bring 2-3 gently used Middle Grade books to swap. Leave with some “new to you” books of your choosing.
URL:https://onceuponabookstore.com/event/middle-grade-book-swap/
LOCATION:SoCo Art Labs\, 418 Quequechan St\, Fall River\, MA\, 02723\, United States
CATEGORIES:Book Swap
ATTACH;FMTTYPE=image/jpeg:https://onceuponabookstore.com/wp-content/uploads/2026/04/Once-Upon-A-Bookstore-Fall-River-Middle-Grade-Book-Swap.jpg
ORGANIZER;CN="Once Upon A Bookstore":MAILTO:serena@onceuponabookstore.com
END:VEVENT
BEGIN:VEVENT
DTSTART;TZID=America/New_York:20260517T140000
DTEND;TZID=America/New_York:20260517T160000
DTSTAMP:20260423T200914
CREATED:20260407T211105Z
LAST-MODIFIED:20260407T211636Z
UID:2050-1779026400-1779033600@onceuponabookstore.com
SUMMARY:"All Booked" Paint Afternoon with Susan Drayton
DESCRIPTION:Join us for step-by-step guidance in creating a bookish masterpiece\, no experience needed\, beginners welcome\, all supplies provided. \n\n\n\n\n“All Booked” A Paint Afternoon with artist\, Susan Drayton at Once Upon a Bookstore. \nBooks? Check. Gorgeous book spines? Check. Your personal additions? Obviously. \nJoin artist Susan Drayton at Once Upon a Bookstore for a delightfully colorful and joy-filled paint afternoon where you will create an artsy stack of books. \nThis class is all about embracing playful creativity. No stress. No perfection pressure. Just color\, laughter\, and a little bookish magic. \nWhat to Expect: \n• Step-by-step guidance (with room for your own flair) \n• A whimsical\, bookish painting to take home \n• A relaxed\, high-energy\, laugh-a-lot environment \n• All supplies included \nNo experience needed\, beginners absolutely welcome \nBYO drinks/snacks \nOnce Upon a Bookstore | 418 Quequechan St.\, Fall River\, MA | Second Floor \nCome for the books. Leave with a masterpiece. \nSpots are limited\, reserve yours before the garden fills up!
URL:https://onceuponabookstore.com/event/all-booked-paint-afternoon-with-susan-drayton/
LOCATION:SoCo Art Labs\, 418 Quequechan St\, Fall River\, MA\, 02723\, United States
CATEGORIES:Craft Session
ATTACH;FMTTYPE=image/jpeg:https://onceuponabookstore.com/wp-content/uploads/2026/04/Once-Upon-A-Bookstore-Fall-River-All-Booked-Paint-Afternoon-with-Susan-Drayton.jpg
ORGANIZER;CN="Once Upon A Bookstore":MAILTO:serena@onceuponabookstore.com
END:VEVENT
BEGIN:VEVENT
DTSTART;TZID=America/New_York:20260520T180000
DTEND;TZID=America/New_York:20260520T210000
DTSTAMP:20260423T200914
CREATED:20260407T230152Z
LAST-MODIFIED:20260407T230152Z
UID:2082-1779300000-1779310800@onceuponabookstore.com
SUMMARY:The Sheep Detectives Movie Outing
DESCRIPTION:Check out this book to screen adaptation with fellow book lovers\, and Hugh Jackman!
URL:https://onceuponabookstore.com/event/the-sheep-detectives-movie-outing/
LOCATION:Picture Show at SouthCoast Marketplace\, 550 William S Canning Boulevard\, Fall River\, MA\, 02721\, United States
CATEGORIES:Movie Outing
ATTACH;FMTTYPE=image/jpeg:https://onceuponabookstore.com/wp-content/uploads/2026/04/Once-Upon-A-Bookstore-Fall-River-The-Sheep-Detectives-Movie-Outing.jpg
ORGANIZER;CN="Once Upon A Bookstore":MAILTO:serena@onceuponabookstore.com
END:VEVENT
BEGIN:VEVENT
DTSTART;TZID=America/New_York:20260521T183000
DTEND;TZID=America/New_York:20260521T200000
DTSTAMP:20260423T200914
CREATED:20260407T231735Z
LAST-MODIFIED:20260407T231735Z
UID:2098-1779388200-1779393600@onceuponabookstore.com
SUMMARY:Junk Journaling
DESCRIPTION:Drop-in and junk journal. Bring your own ephemera and share / swap with others. Let’s create something beautiful out of our too loved books.
URL:https://onceuponabookstore.com/event/junk-journaling/
LOCATION:SoCo Art Labs\, 418 Quequechan St\, Fall River\, MA\, 02723\, United States
CATEGORIES:Journal
ATTACH;FMTTYPE=image/jpeg:https://onceuponabookstore.com/wp-content/uploads/2026/04/Once-Upon-A-Bookstore-Fall-River-Junk-Journaling.jpg
ORGANIZER;CN="Once Upon A Bookstore":MAILTO:serena@onceuponabookstore.com
END:VEVENT
BEGIN:VEVENT
DTSTART;TZID=America/New_York:20260528T183000
DTEND;TZID=America/New_York:20260528T200000
DTSTAMP:20260423T200914
CREATED:20260407T230400Z
LAST-MODIFIED:20260407T230400Z
UID:2086-1779993000-1779998400@onceuponabookstore.com
SUMMARY:Once Upon a Silent Book Club
DESCRIPTION:Bring something to read and a chair or blanket to Fall River Heritage State Park for some sunshine and reading!
URL:https://onceuponabookstore.com/event/once-upon-a-silent-book-club-8/
LOCATION:Fall River Heritage State Park\, Davol Street\, Fall River\, MA\, 02720\, United States
CATEGORIES:Book Club
ATTACH;FMTTYPE=image/jpeg:https://onceuponabookstore.com/wp-content/uploads/2026/04/Once-Upon-A-Bookstore-Fall-River-Silent-Book-Club-May-28-2026.jpg
ORGANIZER;CN="Once Upon A Bookstore":MAILTO:serena@onceuponabookstore.com
END:VEVENT
BEGIN:VEVENT
DTSTART;TZID=America/New_York:20260529T183000
DTEND;TZID=America/New_York:20260529T193000
DTSTAMP:20260423T200914
CREATED:20260407T231100Z
LAST-MODIFIED:20260407T231100Z
UID:2094-1780079400-1780083000@onceuponabookstore.com
SUMMARY:Book Swap
DESCRIPTION:Bring 2-3 gently used novels to swap. Leave with some “new to you” books of your choosing. This swap is for adults.
URL:https://onceuponabookstore.com/event/book-swap-2/
LOCATION:SoCo Art Labs\, 418 Quequechan St\, Fall River\, MA\, 02723\, United States
CATEGORIES:Book Swap
ATTACH;FMTTYPE=image/jpeg:https://onceuponabookstore.com/wp-content/uploads/2026/04/Once-Upon-A-Bookstore-Fall-River-Book-Swap-May-2026.jpg
ORGANIZER;CN="Once Upon A Bookstore":MAILTO:serena@onceuponabookstore.com
END:VEVENT
BEGIN:VEVENT
DTSTART;TZID=America/New_York:20260529T183000
DTEND;TZID=America/New_York:20260529T200000
DTSTAMP:20260423T200914
CREATED:20260407T232240Z
LAST-MODIFIED:20260407T232240Z
UID:2102-1780079400-1780084800@onceuponabookstore.com
SUMMARY:Ink Portal Writing Group
DESCRIPTION:Bring your laptop or notebook to a community space for writers. Work on something you’ve already started or choose a prompt provided.
URL:https://onceuponabookstore.com/event/ink-portal-writing-group-3/
LOCATION:SoCo Art Labs\, 418 Quequechan St\, Fall River\, MA\, 02723\, United States
CATEGORIES:Writing Group
ATTACH;FMTTYPE=image/jpeg:https://onceuponabookstore.com/wp-content/uploads/2026/04/Once-Upon-A-Bookstore-Fall-River-Ink-Portal-Writing-Group-May-2026.jpg
ORGANIZER;CN="Once Upon A Bookstore":MAILTO:serena@onceuponabookstore.com
END:VEVENT
BEGIN:VEVENT
DTSTART;TZID=America/New_York:20260531T100000
DTEND;TZID=America/New_York:20260531T110000
DTSTAMP:20260423T200914
CREATED:20260407T230707Z
LAST-MODIFIED:20260407T230707Z
UID:2090-1780221600-1780225200@onceuponabookstore.com
SUMMARY:Read to Artemis
DESCRIPTION:Reserve a time slot for your child to read to Artemis. Practice fluency and build confidence with the best audience member around!
URL:https://onceuponabookstore.com/event/read-to-artemis/
LOCATION:SoCo Art Labs\, 418 Quequechan St\, Fall River\, MA\, 02723\, United States
CATEGORIES:Reading
ATTACH;FMTTYPE=image/jpeg:https://onceuponabookstore.com/wp-content/uploads/2026/04/Once-Upon-A-Bookstore-Fall-River-Read-to-Artemis.jpg
ORGANIZER;CN="Once Upon A Bookstore":MAILTO:serena@onceuponabookstore.com
END:VEVENT
BEGIN:VEVENT
DTSTART;TZID=America/New_York:20260531T140000
DTEND;TZID=America/New_York:20260531T160000
DTSTAMP:20260423T200914
CREATED:20260407T225904Z
LAST-MODIFIED:20260407T225922Z
UID:2078-1780236000-1780243200@onceuponabookstore.com
SUMMARY:Bedazzle a Book!
DESCRIPTION:$20 per person includes decorating supplies. Bring or buy your own book\, and beverages / snacks of your choice.
URL:https://onceuponabookstore.com/event/bedazzle-a-book-3/
LOCATION:SoCo Art Labs\, 418 Quequechan St\, Fall River\, MA\, 02723\, United States
CATEGORIES:Craft Session
ATTACH;FMTTYPE=image/jpeg:https://onceuponabookstore.com/wp-content/uploads/2026/04/Once-Upon-A-Bookstore-Fall-River-Bedazzle-A-Book-May-2026.jpg
ORGANIZER;CN="Once Upon A Bookstore":MAILTO:serena@onceuponabookstore.com
END:VEVENT
END:VCALENDAR