BEGIN:VCALENDAR
VERSION:2.0
PRODID:-//Once Upon A Bookstore - ECPv6.15.20//NONSGML v1.0//EN
CALSCALE:GREGORIAN
METHOD:PUBLISH
X-ORIGINAL-URL:https://onceuponabookstore.com
X-WR-CALDESC:Events for Once Upon A Bookstore
REFRESH-INTERVAL;VALUE=DURATION:PT1H
X-Robots-Tag:noindex
X-PUBLISHED-TTL:PT1H
BEGIN:VTIMEZONE
TZID:America/New_York
BEGIN:DAYLIGHT
TZOFFSETFROM:-0500
TZOFFSETTO:-0400
TZNAME:EDT
DTSTART:20250309T070000
END:DAYLIGHT
BEGIN:STANDARD
TZOFFSETFROM:-0400
TZOFFSETTO:-0500
TZNAME:EST
DTSTART:20251102T060000
END:STANDARD
BEGIN:DAYLIGHT
TZOFFSETFROM:-0500
TZOFFSETTO:-0400
TZNAME:EDT
DTSTART:20260308T070000
END:DAYLIGHT
BEGIN:STANDARD
TZOFFSETFROM:-0400
TZOFFSETTO:-0500
TZNAME:EST
DTSTART:20261101T060000
END:STANDARD
BEGIN:DAYLIGHT
TZOFFSETFROM:-0500
TZOFFSETTO:-0400
TZNAME:EDT
DTSTART:20270314T070000
END:DAYLIGHT
BEGIN:STANDARD
TZOFFSETFROM:-0400
TZOFFSETTO:-0500
TZNAME:EST
DTSTART:20271107T060000
END:STANDARD
END:VTIMEZONE
BEGIN:VEVENT
DTSTART;TZID=America/New_York:20260422T183000
DTEND;TZID=America/New_York:20260422T200000
DTSTAMP:20260423T151730
CREATED:20260123T221731Z
LAST-MODIFIED:20260215T013301Z
UID:1860-1776882600-1776888000@onceuponabookstore.com
SUMMARY:Midlife Princess Party with Jennifer Safrey
DESCRIPTION:Join us for a Midlife Princess Party as Jennifer crowns audience members for sharing their Princess in Rebellion moments.
URL:https://onceuponabookstore.com/event/midlife-princess-party-with-jennifer-safrey/
LOCATION:SoCo Art Labs\, 418 Quequechan St\, Fall River\, MA\, 02723\, United States
CATEGORIES:Author Talk
ATTACH;FMTTYPE=image/jpeg:https://onceuponabookstore.com/wp-content/uploads/2026/01/Once-Upon-A-Bookstore-Fall-River-Midlife-Princess-Party-With-Jennifer-Safrey-April-2026.jpg
ORGANIZER;CN="Once Upon A Bookstore":MAILTO:serena@onceuponabookstore.com
END:VEVENT
BEGIN:VEVENT
DTSTART;TZID=America/New_York:20260419T140000
DTEND;TZID=America/New_York:20260419T170000
DTSTAMP:20260423T151730
CREATED:20260215T013050Z
LAST-MODIFIED:20260215T013050Z
UID:1994-1776607200-1776618000@onceuponabookstore.com
SUMMARY:Tarot Readings with Scott Panella
DESCRIPTION:Reserve your spot for a tarot reading with resident reader: Scott Panella.
URL:https://onceuponabookstore.com/event/tarot-readings-with-scott-panella/
LOCATION:SoCo Art Labs\, 418 Quequechan St\, Fall River\, MA\, 02723\, United States
CATEGORIES:Tarot Readings
ATTACH;FMTTYPE=image/jpeg:https://onceuponabookstore.com/wp-content/uploads/2026/02/Once-Upon-A-Bookstore-Fall-River-Tarot-Readings-With-Scott-Panella-April-2026.jpg
ORGANIZER;CN="Once Upon A Bookstore":MAILTO:serena@onceuponabookstore.com
END:VEVENT
BEGIN:VEVENT
DTSTART;TZID=America/New_York:20260419T140000
DTEND;TZID=America/New_York:20260419T160000
DTSTAMP:20260423T151730
CREATED:20260407T224254Z
LAST-MODIFIED:20260407T224254Z
UID:2074-1776607200-1776614400@onceuponabookstore.com
SUMMARY:Spin A Yarn
DESCRIPTION:Bring your knitting or crocheting for a cozy evening at the bookstore.
URL:https://onceuponabookstore.com/event/spin-a-yarn-4/
LOCATION:SoCo Art Labs\, 418 Quequechan St\, Fall River\, MA\, 02723\, United States
CATEGORIES:Knitting or Crocheting
ATTACH;FMTTYPE=image/jpeg:https://onceuponabookstore.com/wp-content/uploads/2026/04/Once-Upon-A-Bookstore-Fall-River-Spin-A-Yarn-April-19-2026.jpg
ORGANIZER;CN="Once Upon A Bookstore":MAILTO:serena@onceuponabookstore.com
END:VEVENT
BEGIN:VEVENT
DTSTART;TZID=America/New_York:20260417T183000
DTEND;TZID=America/New_York:20260417T200000
DTSTAMP:20260423T151730
CREATED:20260215T011840Z
LAST-MODIFIED:20260227T195130Z
UID:1970-1776450600-1776456000@onceuponabookstore.com
SUMMARY:Board Game Night
DESCRIPTION:Drop in and play! Choose from a board game at the store\, or bring your own. You are welcome to bring snacks and beverages.
URL:https://onceuponabookstore.com/event/board-game-night-3/
LOCATION:SoCo Art Labs\, 418 Quequechan St\, Fall River\, MA\, 02723\, United States
CATEGORIES:Board Game Night
ATTACH;FMTTYPE=image/jpeg:https://onceuponabookstore.com/wp-content/uploads/2026/02/Once-Upon-A-Bookstore-Fall-River-Board-Game-Night-April-17-2026.jpg
ORGANIZER;CN="Once Upon A Bookstore":MAILTO:serena@onceuponabookstore.com
END:VEVENT
BEGIN:VEVENT
DTSTART;TZID=America/New_York:20260412T120000
DTEND;TZID=America/New_York:20260412T150000
DTSTAMP:20260423T151730
CREATED:20260215T012844Z
LAST-MODIFIED:20260215T012844Z
UID:1990-1775995200-1776006000@onceuponabookstore.com
SUMMARY:Liz Gotauco F*cked Up Fairytale Tea
DESCRIPTION:Join us for tea\, light snacks\, and an author talk with the enchanting Liz Gotauco.
URL:https://onceuponabookstore.com/event/liz-gotauco-fcked-up-fairytale-tea/
LOCATION:SoCo Art Labs\, 418 Quequechan St\, Fall River\, MA\, 02723\, United States
CATEGORIES:Author Talk
ATTACH;FMTTYPE=image/jpeg:https://onceuponabookstore.com/wp-content/uploads/2026/02/Once-Upon-A-Bookstore-Fall-River-Liz-Gotauco-F_cked-Up-Fairytale-Tea.jpg
ORGANIZER;CN="Once Upon A Bookstore":MAILTO:serena@onceuponabookstore.com
END:VEVENT
BEGIN:VEVENT
DTSTART;TZID=America/New_York:20260411T110000
DTEND;TZID=America/New_York:20260411T120000
DTSTAMP:20260423T151730
CREATED:20260215T012629Z
LAST-MODIFIED:20260215T012629Z
UID:1986-1775905200-1775908800@onceuponabookstore.com
SUMMARY:Story Time with Josh Funk
DESCRIPTION:Join us for stories with local author Josh Funk!
URL:https://onceuponabookstore.com/event/story-time-with-josh-funk/
LOCATION:SoCo Art Labs\, 418 Quequechan St\, Fall River\, MA\, 02723\, United States
CATEGORIES:Story Time
ATTACH;FMTTYPE=image/jpeg:https://onceuponabookstore.com/wp-content/uploads/2026/02/Once-Upon-A-Bookstore-Fall-River-Story-Time-With-Josh-Funk.jpg
ORGANIZER;CN="Once Upon A Bookstore":MAILTO:serena@onceuponabookstore.com
END:VEVENT
BEGIN:VEVENT
DTSTART;TZID=America/New_York:20260410T183000
DTEND;TZID=America/New_York:20260410T200000
DTSTAMP:20260423T151730
CREATED:20260215T012439Z
LAST-MODIFIED:20260215T012439Z
UID:1982-1775845800-1775851200@onceuponabookstore.com
SUMMARY:Ink Portal Writing Group
DESCRIPTION:Bring your laptop or notebook to a community space for writers.
URL:https://onceuponabookstore.com/event/ink-portal-writing-group-2/
LOCATION:SoCo Art Labs\, 418 Quequechan St\, Fall River\, MA\, 02723\, United States
CATEGORIES:Writing Group
ATTACH;FMTTYPE=image/jpeg:https://onceuponabookstore.com/wp-content/uploads/2026/02/Once-Upon-A-Bookstore-Fall-River-Ink-Portal-Writing-Group-April-2026.jpg
ORGANIZER;CN="Once Upon A Bookstore":MAILTO:serena@onceuponabookstore.com
END:VEVENT
BEGIN:VEVENT
DTSTART;TZID=America/New_York:20260408T183000
DTEND;TZID=America/New_York:20260408T200000
DTSTAMP:20260423T151730
CREATED:20260215T012245Z
LAST-MODIFIED:20260215T012245Z
UID:1978-1775673000-1775678400@onceuponabookstore.com
SUMMARY:Spin A Yarn
DESCRIPTION:Bring your knitting or crocheting for a cozy evening at the bookstore.
URL:https://onceuponabookstore.com/event/spin-a-yarn-2/
LOCATION:SoCo Art Labs\, 418 Quequechan St\, Fall River\, MA\, 02723\, United States
CATEGORIES:Knitting or Crocheting
ATTACH;FMTTYPE=image/jpeg:https://onceuponabookstore.com/wp-content/uploads/2026/02/Once-Upon-A-Bookstore-Fall-River-Spin-A-Yarn-April-2026.jpg
ORGANIZER;CN="Once Upon A Bookstore":MAILTO:serena@onceuponabookstore.com
END:VEVENT
BEGIN:VEVENT
DTSTART;TZID=America/New_York:20260407T183000
DTEND;TZID=America/New_York:20260407T200000
DTSTAMP:20260423T151730
CREATED:20260215T012048Z
LAST-MODIFIED:20260215T012048Z
UID:1974-1775586600-1775592000@onceuponabookstore.com
SUMMARY:Cardz for Kids Letter Writing Project
DESCRIPTION:Join us in making uplifting cards reaching any person in need of encouragement across the globe. All supplies provided.
URL:https://onceuponabookstore.com/event/cardz-for-kids-letter-writing-project/
LOCATION:SoCo Art Labs\, 418 Quequechan St\, Fall River\, MA\, 02723\, United States
CATEGORIES:Writing Group
ATTACH;FMTTYPE=image/jpeg:https://onceuponabookstore.com/wp-content/uploads/2026/02/Once-Upon-A-Bookstore-Fall-River-Cardz-For-Kids-Letter-Writing-Project.jpg
ORGANIZER;CN="Once Upon A Bookstore":MAILTO:serena@onceuponabookstore.com
END:VEVENT
BEGIN:VEVENT
DTSTART;TZID=America/New_York:20260329T140000
DTEND;TZID=America/New_York:20260329T153000
DTSTAMP:20260423T151730
CREATED:20260215T005332Z
LAST-MODIFIED:20260215T005332Z
UID:1966-1774792800-1774798200@onceuponabookstore.com
SUMMARY:Thriller Panel
DESCRIPTION:Join us for a Thriller Panel starring Megan Collins\, Lynn Tavernier\, Tessa Wegert\, and Joe Salerno folowed by book signings and photos.
URL:https://onceuponabookstore.com/event/thriller-panel/
LOCATION:SoCo Art Labs\, 418 Quequechan St\, Fall River\, MA\, 02723\, United States
CATEGORIES:Author Talk,Thriller
ATTACH;FMTTYPE=image/jpeg:https://onceuponabookstore.com/wp-content/uploads/2026/02/Once-Upon-A-Bookstore-Fall-River-Thriller-Panel.jpg
ORGANIZER;CN="Once Upon A Bookstore":MAILTO:serena@onceuponabookstore.com
END:VEVENT
BEGIN:VEVENT
DTSTART;TZID=America/New_York:20260329T100000
DTEND;TZID=America/New_York:20260329T110000
DTSTAMP:20260423T151730
CREATED:20251210T221713Z
LAST-MODIFIED:20260227T194110Z
UID:1793-1774778400-1774782000@onceuponabookstore.com
SUMMARY:Story Time with Christine Devane
DESCRIPTION:Join us for stories and alphabet beading!
URL:https://onceuponabookstore.com/event/story-time-with-christine-devane/
LOCATION:SoCo Art Labs\, 418 Quequechan St\, Fall River\, MA\, 02723\, United States
CATEGORIES:Story Time
ATTACH;FMTTYPE=image/jpeg:https://onceuponabookstore.com/wp-content/uploads/2025/12/Once-Upon-A-Bookstore-Fall-River-Story-Time-With-Christine-Devane-March-29-2026.jpg
ORGANIZER;CN="Once Upon A Bookstore":MAILTO:serena@onceuponabookstore.com
END:VEVENT
BEGIN:VEVENT
DTSTART;TZID=America/New_York:20260328T100000
DTEND;TZID=America/New_York:20260328T110000
DTSTAMP:20260423T151730
CREATED:20260215T005108Z
LAST-MODIFIED:20260215T005108Z
UID:1962-1774692000-1774695600@onceuponabookstore.com
SUMMARY:Story Time with John Wolforth
DESCRIPTION:Join us for an Easter story with local author\, John Wolf
URL:https://onceuponabookstore.com/event/story-time-with-john-wolforth/
LOCATION:SoCo Art Labs\, 418 Quequechan St\, Fall River\, MA\, 02723\, United States
CATEGORIES:Story Time
ATTACH;FMTTYPE=image/jpeg:https://onceuponabookstore.com/wp-content/uploads/2026/02/Once-Upon-A-Bookstore-Fall-River-Story-Time-With-John-Wolforth.jpg
ORGANIZER;CN="Once Upon A Bookstore":MAILTO:serena@onceuponabookstore.com
END:VEVENT
BEGIN:VEVENT
DTSTART;TZID=America/New_York:20260327T180000
DTEND;TZID=America/New_York:20260327T200000
DTSTAMP:20260423T151730
CREATED:20260215T004902Z
LAST-MODIFIED:20260215T004915Z
UID:1958-1774634400-1774641600@onceuponabookstore.com
SUMMARY:Once Upon A Silent Book Club
DESCRIPTION:Join us for some peace and quiet. Tea and cozy blankets provided.
URL:https://onceuponabookstore.com/event/once-upon-a-silent-book-club-6/
LOCATION:SoCo Art Labs\, 418 Quequechan St\, Fall River\, MA\, 02723\, United States
CATEGORIES:Book Club
ATTACH;FMTTYPE=image/jpeg:https://onceuponabookstore.com/wp-content/uploads/2026/02/Once-Upon-A-Bookstore-Fall-River-Silent-Book-Club-March-2026.jpg
ORGANIZER;CN="Once Upon A Bookstore":MAILTO:serena@onceuponabookstore.com
END:VEVENT
BEGIN:VEVENT
DTSTART;TZID=America/New_York:20260322T140000
DTEND;TZID=America/New_York:20260322T153000
DTSTAMP:20260423T151730
CREATED:20260215T004323Z
LAST-MODIFIED:20260305T222443Z
UID:1950-1774188000-1774193400@onceuponabookstore.com
SUMMARY:Spin a Yarn
DESCRIPTION:Bring your knitting or crocheting for a cozy evening at the bookstore.
URL:https://onceuponabookstore.com/event/spin-a-yarn/
LOCATION:SoCo Art Labs\, 418 Quequechan St\, Fall River\, MA\, 02723\, United States
CATEGORIES:Knitting or Crocheting
ATTACH;FMTTYPE=image/jpeg:https://onceuponabookstore.com/wp-content/uploads/2026/02/Once-Upon-A-Bookstore-Fall-River-Spin-A-Yarn-March-2026.jpg
ORGANIZER;CN="Once Upon A Bookstore":MAILTO:serena@onceuponabookstore.com
END:VEVENT
BEGIN:VEVENT
DTSTART;TZID=America/New_York:20260320T180000
DTEND;TZID=America/New_York:20260320T210000
DTSTAMP:20260423T151730
CREATED:20260215T004412Z
LAST-MODIFIED:20260215T004643Z
UID:1954-1774029600-1774040400@onceuponabookstore.com
SUMMARY:Project Hail Mary Movie Outing
DESCRIPTION:Join us for this book to film adaptation on the big screen on opening night.
URL:https://onceuponabookstore.com/event/project-hail-mary-movie-outing/
LOCATION:Picture Show at SouthCoast Marketplace\, 550 William S Canning Boulevard\, Fall River\, MA\, 02721\, United States
CATEGORIES:Movie Outing
ATTACH;FMTTYPE=image/jpeg:https://onceuponabookstore.com/wp-content/uploads/2026/02/Once-Upon-A-Bookstore-Fall-River-Project-Hail-Mary-Movie-Outing.jpg
ORGANIZER;CN="Once Upon A Bookstore":MAILTO:serena@onceuponabookstore.com
END:VEVENT
BEGIN:VEVENT
DTSTART;TZID=America/New_York:20260315T140000
DTEND;TZID=America/New_York:20260315T150000
DTSTAMP:20260423T151730
CREATED:20260215T004132Z
LAST-MODIFIED:20260215T004132Z
UID:1946-1773583200-1773586800@onceuponabookstore.com
SUMMARY:An Immersive Book Talk with Simran Silva
DESCRIPTION:Join us for an immersive book talk with small courses of book-related snacks.
URL:https://onceuponabookstore.com/event/an-immersive-book-talk-with-simran-silva/
LOCATION:SoCo Art Labs\, 418 Quequechan St\, Fall River\, MA\, 02723\, United States
CATEGORIES:Author Talk
ATTACH;FMTTYPE=image/jpeg:https://onceuponabookstore.com/wp-content/uploads/2026/02/Once-Upon-A-Bookstore-Fall-River-An-Immersive-Book-Talk-With-Simran-Silva.jpg
ORGANIZER;CN="Once Upon A Bookstore":MAILTO:serena@onceuponabookstore.com
END:VEVENT
BEGIN:VEVENT
DTSTART;TZID=America/New_York:20260314T180000
DTEND;TZID=America/New_York:20260314T193000
DTSTAMP:20260423T151730
CREATED:20260215T003931Z
LAST-MODIFIED:20260314T173221Z
UID:1942-1773511200-1773516600@onceuponabookstore.com
SUMMARY:Poetry Panel
DESCRIPTION:Hear readings from three local poets\, followed by an author panel. Book signings and photos after.
URL:https://onceuponabookstore.com/event/poetry-panel/
LOCATION:SoCo Art Labs\, 418 Quequechan St\, Fall River\, MA\, 02723\, United States
CATEGORIES:Poetry
ATTACH;FMTTYPE=image/jpeg:https://onceuponabookstore.com/wp-content/uploads/2026/02/Once-Upon-A-Bookstore-Fall-River-Poetry-Panel-March-2026.jpg
ORGANIZER;CN="Once Upon A Bookstore":MAILTO:serena@onceuponabookstore.com
END:VEVENT
BEGIN:VEVENT
DTSTART;TZID=America/New_York:20260314T110000
DTEND;TZID=America/New_York:20260314T120000
DTSTAMP:20260423T151730
CREATED:20260215T003716Z
LAST-MODIFIED:20260215T003716Z
UID:1938-1773486000-1773489600@onceuponabookstore.com
SUMMARY:Pout Pout Fish: Stories & Craft
DESCRIPTION:Get excited for the movie release by revisiting this classic character. Join us for stories followed by a craft.
URL:https://onceuponabookstore.com/event/pout-pout-fish-stories-craft/
LOCATION:SoCo Art Labs\, 418 Quequechan St\, Fall River\, MA\, 02723\, United States
CATEGORIES:Story Time
ATTACH;FMTTYPE=image/jpeg:https://onceuponabookstore.com/wp-content/uploads/2026/02/Once-Upon-A-Bookstore-Fall-River-Pout-Pout-Fish-Stories-Craft.jpg
ORGANIZER;CN="Once Upon A Bookstore":MAILTO:serena@onceuponabookstore.com
END:VEVENT
BEGIN:VEVENT
DTSTART;TZID=America/New_York:20260314T100000
DTEND;TZID=America/New_York:20260314T110000
DTSTAMP:20260423T151730
CREATED:20260131T174352Z
LAST-MODIFIED:20260306T193506Z
UID:1905-1773482400-1773486000@onceuponabookstore.com
SUMMARY:LEGO Build!
DESCRIPTION:Let’s make sleds and snowboards for our mini figs!
URL:https://onceuponabookstore.com/event/lego-build-2/
LOCATION:SoCo Art Labs\, 418 Quequechan St\, Fall River\, MA\, 02723\, United States
CATEGORIES:Lego Build
ATTACH;FMTTYPE=image/jpeg:https://onceuponabookstore.com/wp-content/uploads/2026/01/Once-Upon-A-Bookstore-Fall-River-LEGO-Build-March-14-2026.jpg
ORGANIZER;CN="Once Upon A Bookstore":MAILTO:serena@onceuponabookstore.com
END:VEVENT
BEGIN:VEVENT
DTSTART;TZID=America/New_York:20260313T183000
DTEND;TZID=America/New_York:20260313T203000
DTSTAMP:20260423T151730
CREATED:20260215T000749Z
LAST-MODIFIED:20260215T000749Z
UID:1934-1773426600-1773433800@onceuponabookstore.com
SUMMARY:Ink Portal Writing Group
DESCRIPTION:Bring your laptop or notebook to a community space for writers. If group becomes consistent\, willing to organize sharing and feedback.
URL:https://onceuponabookstore.com/event/ink-portal-writing-group/
LOCATION:SoCo Art Labs\, 418 Quequechan St\, Fall River\, MA\, 02723\, United States
CATEGORIES:Writing Group
ATTACH;FMTTYPE=image/jpeg:https://onceuponabookstore.com/wp-content/uploads/2026/02/Once-Upon-A-Bookstore-Fall-River-Ink-Portal-Writing-Group.jpg
ORGANIZER;CN="Once Upon A Bookstore":MAILTO:serena@onceuponabookstore.com
END:VEVENT
BEGIN:VEVENT
DTSTART;TZID=America/New_York:20260308T140000
DTEND;TZID=America/New_York:20260308T150000
DTSTAMP:20260423T151730
CREATED:20260215T000504Z
LAST-MODIFIED:20260215T000504Z
UID:1930-1772978400-1772982000@onceuponabookstore.com
SUMMARY:Stephanie Burns in conversation with Jenny L. Howe
DESCRIPTION:Celebrate debut author Stephanie Burns with one of our faves: Jenny L. Howe.
URL:https://onceuponabookstore.com/event/stephanie-burns-in-conversation-with-jenny-l-howe/
LOCATION:SoCo Art Labs\, 418 Quequechan St\, Fall River\, MA\, 02723\, United States
CATEGORIES:Author Talk
ATTACH;FMTTYPE=image/jpeg:https://onceuponabookstore.com/wp-content/uploads/2026/02/Once-Upon-A-Bookstore-Fall-River-Stephanie-Burns-In-Conversation-With-Jenny-L-Howe.jpg
ORGANIZER;CN="Once Upon A Bookstore":MAILTO:serena@onceuponabookstore.com
END:VEVENT
BEGIN:VEVENT
DTSTART;TZID=America/New_York:20260308T110000
DTEND;TZID=America/New_York:20260308T110000
DTSTAMP:20260423T151730
CREATED:20260215T000100Z
LAST-MODIFIED:20260218T195257Z
UID:1926-1772967600-1772967600@onceuponabookstore.com
SUMMARY:Happy Birthday Dr. Seuss with Mr. Mello
DESCRIPTION:Join Mr. Mello for some Seuss stories and snap a photo with Cat in the Hat.
URL:https://onceuponabookstore.com/event/happy-birthday-dr-seuss-with-mr-mello/
LOCATION:SoCo Art Labs\, 418 Quequechan St\, Fall River\, MA\, 02723\, United States
CATEGORIES:Story Time
ATTACH;FMTTYPE=image/jpeg:https://onceuponabookstore.com/wp-content/uploads/2026/02/Once-Upon-A-Bookstore-Fall-River-Happy-Birthday-Dr-Seuss-With-Mr-Mello.jpg
ORGANIZER;CN="Once Upon A Bookstore":MAILTO:serena@onceuponabookstore.com
END:VEVENT
BEGIN:VEVENT
DTSTART;TZID=America/New_York:20260306T183000
DTEND;TZID=America/New_York:20260306T200000
DTSTAMP:20260423T151730
CREATED:20260214T235900Z
LAST-MODIFIED:20260214T235900Z
UID:1922-1772821800-1772827200@onceuponabookstore.com
SUMMARY:Board Game Night
DESCRIPTION:Drop in and play! Choose from a game at the store or bring your own. You are welcome to bring snacks and beverages.
URL:https://onceuponabookstore.com/event/board-game-night-2/
LOCATION:SoCo Art Labs\, 418 Quequechan St\, Fall River\, MA\, 02723\, United States
CATEGORIES:Board Game Night
ATTACH;FMTTYPE=image/jpeg:https://onceuponabookstore.com/wp-content/uploads/2026/02/Once-Upon-A-Bookstore-Fall-River-Board-Game-Night-March-2026.jpg
ORGANIZER;CN="Once Upon A Bookstore":MAILTO:serena@onceuponabookstore.com
END:VEVENT
BEGIN:VEVENT
DTSTART;TZID=America/New_York:20260306T183000
DTEND;TZID=America/New_York:20260306T200000
DTSTAMP:20260423T151730
CREATED:20260131T174003Z
LAST-MODIFIED:20260227T193836Z
UID:1901-1772821800-1772827200@onceuponabookstore.com
SUMMARY:Book Swap
DESCRIPTION:Bring 2-3 gently used novels to swap. Leave with some “new to you” books of your choosing.
URL:https://onceuponabookstore.com/event/book-swap/
LOCATION:SoCo Art Labs\, 418 Quequechan St\, Fall River\, MA\, 02723\, United States
CATEGORIES:Book Swap
ATTACH;FMTTYPE=image/jpeg:https://onceuponabookstore.com/wp-content/uploads/2026/01/Once-Upon-A-Bookstore-Fall-River-Book-Swap-March-2026.jpg
ORGANIZER;CN="Once Upon A Bookstore":MAILTO:serena@onceuponabookstore.com
END:VEVENT
BEGIN:VEVENT
DTSTART;TZID=America/New_York:20260303T183000
DTEND;TZID=America/New_York:20260303T200000
DTSTAMP:20260423T151730
CREATED:20260214T235619Z
LAST-MODIFIED:20260214T235619Z
UID:1918-1772562600-1772568000@onceuponabookstore.com
SUMMARY:More Love Letters Letter Writing Project
DESCRIPTION:Join us in hand writing love letters for those in need around the world. Partnering with More Love Letters\, all supplies provided.
URL:https://onceuponabookstore.com/event/more-love-letters-letter-writing-project/
LOCATION:SoCo Art Labs\, 418 Quequechan St\, Fall River\, MA\, 02723\, United States
CATEGORIES:Craft Session
ATTACH;FMTTYPE=image/jpeg:https://onceuponabookstore.com/wp-content/uploads/2026/02/Once-Upon-A-Bookstore-Fall-River-More-Love-Letters-Letter-Writing-Project.jpg
ORGANIZER;CN="Once Upon A Bookstore":MAILTO:serena@onceuponabookstore.com
END:VEVENT
BEGIN:VEVENT
DTSTART;TZID=America/New_York:20260301T140000
DTEND;TZID=America/New_York:20260301T150000
DTSTAMP:20260423T151730
CREATED:20250904T160425Z
LAST-MODIFIED:20260228T225533Z
UID:1559-1772373600-1772377200@onceuponabookstore.com
SUMMARY:Author Talk with Jane Healey
DESCRIPTION:Hear from historical fiction author Jane Healey all about her inspiration behind “The Women of Arlington Hall”.
URL:https://onceuponabookstore.com/event/author-talk-with-jane-healey/
LOCATION:SoCo Art Labs\, 418 Quequechan St\, Fall River\, MA\, 02723\, United States
CATEGORIES:Author Talk
ATTACH;FMTTYPE=image/jpeg:https://onceuponabookstore.com/wp-content/uploads/2025/09/Once-Upon-A-Bookstore-Fall-River-Jane-Healey-Author-Talk.jpg
ORGANIZER;CN="Once Upon A Bookstore":MAILTO:serena@onceuponabookstore.com
END:VEVENT
BEGIN:VEVENT
DTSTART;TZID=America/New_York:20260225T183000
DTEND;TZID=America/New_York:20260225T200000
DTSTAMP:20260423T151730
CREATED:20260131T172754Z
LAST-MODIFIED:20260131T172754Z
UID:1896-1772044200-1772049600@onceuponabookstore.com
SUMMARY:Forward is a Pace with Adina O'Neill
DESCRIPTION:Hear from powerhouse speaker Adina on her journey from an awkward athlete to a confident coach.
URL:https://onceuponabookstore.com/event/forward-is-a-pace-with-adina-oneill/
LOCATION:SoCo Art Labs\, 418 Quequechan St\, Fall River\, MA\, 02723\, United States
CATEGORIES:Author Talk
ATTACH;FMTTYPE=image/jpeg:https://onceuponabookstore.com/wp-content/uploads/2026/01/Once-Upon-A-Bookstore-Fall-River-Forward-is-a-Pace-with-Adina-ONeill.jpg
ORGANIZER;CN="Once Upon A Bookstore":MAILTO:serena@onceuponabookstore.com
END:VEVENT
BEGIN:VEVENT
DTSTART;TZID=America/New_York:20260224T180000
DTEND;TZID=America/New_York:20260224T200000
DTSTAMP:20260423T151730
CREATED:20260131T172425Z
LAST-MODIFIED:20260131T172554Z
UID:1891-1771956000-1771963200@onceuponabookstore.com
SUMMARY:Once Upon a Silent Book Club
DESCRIPTION:Join us for some peace and quiet. Tea and cozy blankets provided.
URL:https://onceuponabookstore.com/event/once-upon-a-silent-book-club-5/
LOCATION:SoCo Art Labs\, 418 Quequechan St\, Fall River\, MA\, 02723\, United States
ATTACH;FMTTYPE=image/jpeg:https://onceuponabookstore.com/wp-content/uploads/2026/01/Once-Upon-A-Bookstore-Fall-River-Silent-Book-Club-February-2026.jpg
ORGANIZER;CN="Once Upon A Bookstore":MAILTO:serena@onceuponabookstore.com
END:VEVENT
BEGIN:VEVENT
DTSTART;TZID=America/New_York:20260221T180000
DTEND;TZID=America/New_York:20260221T193000
DTSTAMP:20260423T151730
CREATED:20260206T163514Z
LAST-MODIFIED:20260206T163514Z
UID:1909-1771696800-1771702200@onceuponabookstore.com
SUMMARY:Brennan LaFaro & Bill Gauthier
DESCRIPTION:Join us in celebrating two local horror authors with conversation and the releases of their new books.
URL:https://onceuponabookstore.com/event/brennan-lafaro-bill-gauthier/
LOCATION:SoCo Art Labs\, 418 Quequechan St\, Fall River\, MA\, 02723\, United States
CATEGORIES:Author Talk
ATTACH;FMTTYPE=image/jpeg:https://onceuponabookstore.com/wp-content/uploads/2026/02/Once-Upon-A-Bookstore-Fall-River-Brennan-LaFaro-Bill-Gauthier.jpg
ORGANIZER;CN="Once Upon A Bookstore":MAILTO:serena@onceuponabookstore.com
END:VEVENT
BEGIN:VEVENT
DTSTART;TZID=America/New_York:20260220T183000
DTEND;TZID=America/New_York:20260220T200000
DTSTAMP:20260423T151730
CREATED:20260131T172332Z
LAST-MODIFIED:20260131T172332Z
UID:1887-1771612200-1771617600@onceuponabookstore.com
SUMMARY:Book Tastings: the Book Edition
DESCRIPTION:Experience a book tasting by reading an excerpt and tasting a book themed food item from each one. Nothing beats a cozy full belly.
URL:https://onceuponabookstore.com/event/book-tastings-the-book-edition/
LOCATION:SoCo Art Labs\, 418 Quequechan St\, Fall River\, MA\, 02723\, United States
CATEGORIES:Book Tastings
ATTACH;FMTTYPE=image/jpeg:https://onceuponabookstore.com/wp-content/uploads/2026/01/Once-Upon-A-Bookstore-Fall-River-Book-Tastings-the-Book-Edition.jpg
ORGANIZER;CN="Once Upon A Bookstore":MAILTO:serena@onceuponabookstore.com
END:VEVENT
END:VCALENDAR