BEGIN:VCALENDAR
VERSION:2.0
PRODID:-//Once Upon A Bookstore - ECPv6.15.20//NONSGML v1.0//EN
CALSCALE:GREGORIAN
METHOD:PUBLISH
X-WR-CALNAME:Once Upon A Bookstore
X-ORIGINAL-URL:https://onceuponabookstore.com
X-WR-CALDESC:Events for Once Upon A Bookstore
REFRESH-INTERVAL;VALUE=DURATION:PT1H
X-Robots-Tag:noindex
X-PUBLISHED-TTL:PT1H
BEGIN:VTIMEZONE
TZID:America/New_York
BEGIN:DAYLIGHT
TZOFFSETFROM:-0500
TZOFFSETTO:-0400
TZNAME:EDT
DTSTART:20250309T070000
END:DAYLIGHT
BEGIN:STANDARD
TZOFFSETFROM:-0400
TZOFFSETTO:-0500
TZNAME:EST
DTSTART:20251102T060000
END:STANDARD
BEGIN:DAYLIGHT
TZOFFSETFROM:-0500
TZOFFSETTO:-0400
TZNAME:EDT
DTSTART:20260308T070000
END:DAYLIGHT
BEGIN:STANDARD
TZOFFSETFROM:-0400
TZOFFSETTO:-0500
TZNAME:EST
DTSTART:20261101T060000
END:STANDARD
BEGIN:DAYLIGHT
TZOFFSETFROM:-0500
TZOFFSETTO:-0400
TZNAME:EDT
DTSTART:20270314T070000
END:DAYLIGHT
BEGIN:STANDARD
TZOFFSETFROM:-0400
TZOFFSETTO:-0500
TZNAME:EST
DTSTART:20271107T060000
END:STANDARD
END:VTIMEZONE
BEGIN:VEVENT
DTSTART;TZID=America/New_York:20260308T110000
DTEND;TZID=America/New_York:20260308T110000
DTSTAMP:20260423T200615
CREATED:20260215T000100Z
LAST-MODIFIED:20260218T195257Z
UID:1926-1772967600-1772967600@onceuponabookstore.com
SUMMARY:Happy Birthday Dr. Seuss with Mr. Mello
DESCRIPTION:Join Mr. Mello for some Seuss stories and snap a photo with Cat in the Hat.
URL:https://onceuponabookstore.com/event/happy-birthday-dr-seuss-with-mr-mello/
LOCATION:SoCo Art Labs\, 418 Quequechan St\, Fall River\, MA\, 02723\, United States
CATEGORIES:Story Time
ATTACH;FMTTYPE=image/jpeg:https://onceuponabookstore.com/wp-content/uploads/2026/02/Once-Upon-A-Bookstore-Fall-River-Happy-Birthday-Dr-Seuss-With-Mr-Mello.jpg
ORGANIZER;CN="Once Upon A Bookstore":MAILTO:serena@onceuponabookstore.com
END:VEVENT
BEGIN:VEVENT
DTSTART;TZID=America/New_York:20260314T110000
DTEND;TZID=America/New_York:20260314T120000
DTSTAMP:20260423T200615
CREATED:20260215T003716Z
LAST-MODIFIED:20260215T003716Z
UID:1938-1773486000-1773489600@onceuponabookstore.com
SUMMARY:Pout Pout Fish: Stories & Craft
DESCRIPTION:Get excited for the movie release by revisiting this classic character. Join us for stories followed by a craft.
URL:https://onceuponabookstore.com/event/pout-pout-fish-stories-craft/
LOCATION:SoCo Art Labs\, 418 Quequechan St\, Fall River\, MA\, 02723\, United States
CATEGORIES:Story Time
ATTACH;FMTTYPE=image/jpeg:https://onceuponabookstore.com/wp-content/uploads/2026/02/Once-Upon-A-Bookstore-Fall-River-Pout-Pout-Fish-Stories-Craft.jpg
ORGANIZER;CN="Once Upon A Bookstore":MAILTO:serena@onceuponabookstore.com
END:VEVENT
BEGIN:VEVENT
DTSTART;TZID=America/New_York:20260328T100000
DTEND;TZID=America/New_York:20260328T110000
DTSTAMP:20260423T200615
CREATED:20260215T005108Z
LAST-MODIFIED:20260215T005108Z
UID:1962-1774692000-1774695600@onceuponabookstore.com
SUMMARY:Story Time with John Wolforth
DESCRIPTION:Join us for an Easter story with local author\, John Wolf
URL:https://onceuponabookstore.com/event/story-time-with-john-wolforth/
LOCATION:SoCo Art Labs\, 418 Quequechan St\, Fall River\, MA\, 02723\, United States
CATEGORIES:Story Time
ATTACH;FMTTYPE=image/jpeg:https://onceuponabookstore.com/wp-content/uploads/2026/02/Once-Upon-A-Bookstore-Fall-River-Story-Time-With-John-Wolforth.jpg
ORGANIZER;CN="Once Upon A Bookstore":MAILTO:serena@onceuponabookstore.com
END:VEVENT
BEGIN:VEVENT
DTSTART;TZID=America/New_York:20260329T100000
DTEND;TZID=America/New_York:20260329T110000
DTSTAMP:20260423T200615
CREATED:20251210T221713Z
LAST-MODIFIED:20260227T194110Z
UID:1793-1774778400-1774782000@onceuponabookstore.com
SUMMARY:Story Time with Christine Devane
DESCRIPTION:Join us for stories and alphabet beading!
URL:https://onceuponabookstore.com/event/story-time-with-christine-devane/
LOCATION:SoCo Art Labs\, 418 Quequechan St\, Fall River\, MA\, 02723\, United States
CATEGORIES:Story Time
ATTACH;FMTTYPE=image/jpeg:https://onceuponabookstore.com/wp-content/uploads/2025/12/Once-Upon-A-Bookstore-Fall-River-Story-Time-With-Christine-Devane-March-29-2026.jpg
ORGANIZER;CN="Once Upon A Bookstore":MAILTO:serena@onceuponabookstore.com
END:VEVENT
END:VCALENDAR