BEGIN:VCALENDAR
VERSION:2.0
PRODID:-//Once Upon A Bookstore - ECPv6.15.20//NONSGML v1.0//EN
CALSCALE:GREGORIAN
METHOD:PUBLISH
X-WR-CALNAME:Once Upon A Bookstore
X-ORIGINAL-URL:https://onceuponabookstore.com
X-WR-CALDESC:Events for Once Upon A Bookstore
REFRESH-INTERVAL;VALUE=DURATION:PT1H
X-Robots-Tag:noindex
X-PUBLISHED-TTL:PT1H
BEGIN:VTIMEZONE
TZID:America/New_York
BEGIN:DAYLIGHT
TZOFFSETFROM:-0500
TZOFFSETTO:-0400
TZNAME:EDT
DTSTART:20240310T070000
END:DAYLIGHT
BEGIN:STANDARD
TZOFFSETFROM:-0400
TZOFFSETTO:-0500
TZNAME:EST
DTSTART:20241103T060000
END:STANDARD
BEGIN:DAYLIGHT
TZOFFSETFROM:-0500
TZOFFSETTO:-0400
TZNAME:EDT
DTSTART:20250309T070000
END:DAYLIGHT
BEGIN:STANDARD
TZOFFSETFROM:-0400
TZOFFSETTO:-0500
TZNAME:EST
DTSTART:20251102T060000
END:STANDARD
BEGIN:DAYLIGHT
TZOFFSETFROM:-0500
TZOFFSETTO:-0400
TZNAME:EDT
DTSTART:20260308T070000
END:DAYLIGHT
BEGIN:STANDARD
TZOFFSETFROM:-0400
TZOFFSETTO:-0500
TZNAME:EST
DTSTART:20261101T060000
END:STANDARD
END:VTIMEZONE
BEGIN:VEVENT
DTSTART;TZID=America/New_York:20250912T180000
DTEND;TZID=America/New_York:20250912T220000
DTSTAMP:20260424T035938
CREATED:20250903T221031Z
LAST-MODIFIED:20250904T161805Z
UID:1409-1757700000-1757714400@onceuponabookstore.com
SUMMARY:Once Upon A Bookstore Grand Opening With Jenny L. Howe
DESCRIPTION:Join us for hors’doeuvres\, a book talk with local author Jenny L. Howe\, book signings\, photos\, and chatting at Once Upon a Bookstore\, a new book store popping up inside SoCo Art Labs at 418 Quequechan St.\, Fall River\, MA.\nImmerse yourself in a world of imagination and adventure as we celebrate the joy of reading. Don’t miss out on this special event – mark your calendars and come be a part of our exciting journey!
URL:https://onceuponabookstore.com/event/once-upon-a-bookstore-grand-opening-with-jenny-l-howe/
LOCATION:SoCo Art Labs\, 418 Quequechan St\, Fall River\, MA\, 02723\, United States
CATEGORIES:Author Talk
ATTACH;FMTTYPE=image/jpeg:https://onceuponabookstore.com/wp-content/uploads/2025/09/Once-Upon-A-Bookstore-Fall-River-Grand-Opening-With-Jenny-L-Howe.jpg
ORGANIZER;CN="Once Upon A Bookstore":MAILTO:serena@onceuponabookstore.com
END:VEVENT
BEGIN:VEVENT
DTSTART;TZID=America/New_York:20250921T140000
DTEND;TZID=America/New_York:20250921T160000
DTSTAMP:20260424T035938
CREATED:20250904T152907Z
LAST-MODIFIED:20250904T152907Z
UID:1514-1758463200-1758470400@onceuponabookstore.com
SUMMARY:Book Chat & Cheesecake Tasting
DESCRIPTION:Let’s go back to Miami 1987 and discuss the hijinks of our four favorite ladies: The Golden Girls. Of course\, there will be cheesecake!
URL:https://onceuponabookstore.com/event/book-chat-cheesecake-tasting/
LOCATION:SoCo Art Labs\, 418 Quequechan St\, Fall River\, MA\, 02723\, United States
CATEGORIES:Author Talk
ATTACH;FMTTYPE=image/jpeg:https://onceuponabookstore.com/wp-content/uploads/2025/09/Once-Upon-A-Bookstore-Fall-River-Book-Chat-And-Cheesecake-Tasting.jpg
ORGANIZER;CN="Once Upon A Bookstore":MAILTO:serena@onceuponabookstore.com
END:VEVENT
BEGIN:VEVENT
DTSTART;TZID=America/New_York:20250924T180000
DTEND;TZID=America/New_York:20250924T203000
DTSTAMP:20260424T035938
CREATED:20250904T153157Z
LAST-MODIFIED:20250904T153311Z
UID:1518-1758736800-1758745800@onceuponabookstore.com
SUMMARY:Book Chat & Tarot Reading
DESCRIPTION:Join us for a relaxed book chat about Mia Manansala’s latest book: Death in the Cards. Each person gets a 20 minute Tarot Reading included!
URL:https://onceuponabookstore.com/event/book-chat-tarot-reading/
LOCATION:SoCo Art Labs\, 418 Quequechan St\, Fall River\, MA\, 02723\, United States
CATEGORIES:Author Talk
ATTACH;FMTTYPE=image/jpeg:https://onceuponabookstore.com/wp-content/uploads/2025/09/Once-Upon-A-Bookstore-Fall-River-Book-Chat-And-Tarot-Reading.jpg
ORGANIZER;CN="Once Upon A Bookstore":MAILTO:serena@onceuponabookstore.com
END:VEVENT
BEGIN:VEVENT
DTSTART;TZID=America/New_York:20250928T140000
DTEND;TZID=America/New_York:20250928T160000
DTSTAMP:20260424T035938
CREATED:20250904T154545Z
LAST-MODIFIED:20250904T154545Z
UID:1536-1759068000-1759075200@onceuponabookstore.com
SUMMARY:Author Talk with Kerri Maher
DESCRIPTION:Please join us for a book talk\, book signings\, & photos followed by a tea and macaron tasting.
URL:https://onceuponabookstore.com/event/author-talk-with-kerri-maher/
LOCATION:SoCo Art Labs\, 418 Quequechan St\, Fall River\, MA\, 02723\, United States
CATEGORIES:Author Talk
ATTACH;FMTTYPE=image/jpeg:https://onceuponabookstore.com/wp-content/uploads/2025/09/Once-Upon-A-Bookstore-Fall-River-Author-Talk-With-Kerri-Maher.jpg
ORGANIZER;CN="Once Upon A Bookstore":MAILTO:serena@onceuponabookstore.com
END:VEVENT
END:VCALENDAR