BEGIN:VCALENDAR
VERSION:2.0
PRODID:-//Once Upon A Bookstore - ECPv6.15.20//NONSGML v1.0//EN
CALSCALE:GREGORIAN
METHOD:PUBLISH
X-ORIGINAL-URL:https://onceuponabookstore.com
X-WR-CALDESC:Events for Once Upon A Bookstore
REFRESH-INTERVAL;VALUE=DURATION:PT1H
X-Robots-Tag:noindex
X-PUBLISHED-TTL:PT1H
BEGIN:VTIMEZONE
TZID:America/New_York
BEGIN:DAYLIGHT
TZOFFSETFROM:-0500
TZOFFSETTO:-0400
TZNAME:EDT
DTSTART:20250309T070000
END:DAYLIGHT
BEGIN:STANDARD
TZOFFSETFROM:-0400
TZOFFSETTO:-0500
TZNAME:EST
DTSTART:20251102T060000
END:STANDARD
BEGIN:DAYLIGHT
TZOFFSETFROM:-0500
TZOFFSETTO:-0400
TZNAME:EDT
DTSTART:20260308T070000
END:DAYLIGHT
BEGIN:STANDARD
TZOFFSETFROM:-0400
TZOFFSETTO:-0500
TZNAME:EST
DTSTART:20261101T060000
END:STANDARD
BEGIN:DAYLIGHT
TZOFFSETFROM:-0500
TZOFFSETTO:-0400
TZNAME:EDT
DTSTART:20270314T070000
END:DAYLIGHT
BEGIN:STANDARD
TZOFFSETFROM:-0400
TZOFFSETTO:-0500
TZNAME:EST
DTSTART:20271107T060000
END:STANDARD
END:VTIMEZONE
BEGIN:VEVENT
DTSTART;TZID=America/New_York:20260424T183000
DTEND;TZID=America/New_York:20260424T203000
DTSTAMP:20260423T164831
CREATED:20260407T200403Z
LAST-MODIFIED:20260407T202414Z
UID:2025-1777055400-1777062600@onceuponabookstore.com
SUMMARY:Food for Thought: Kitchen Witchery for Modern Life
DESCRIPTION:We’ll explore how intention\, herbs\, food\, and everyday routines can become powerful spiritual tools. Learn how to infuse meals with purpose. \n\n\n\n\nCurious about Kitchen Witchery but not sure where to begin? This fun and approachable lecture-style workshop breaks down the basic principles of working magic in your kitchen — without complicated rituals or intimidating rules. \nWe’ll explore how intention\, herbs\, food\, and everyday routines can become powerful spiritual tools. You’ll learn how to infuse meals with purpose\, turn morning coffee into ritual\, and reconnect with the sacred energy already living in your home. \nNo experience necessary — just bring your curiosity (and maybe your love of good food).
URL:https://onceuponabookstore.com/event/food-for-thought-kitchen-witchery-for-modern-life/
LOCATION:SoCo Art Labs\, 418 Quequechan St\, Fall River\, MA\, 02723\, United States
CATEGORIES:Workshop
ATTACH;FMTTYPE=image/jpeg:https://onceuponabookstore.com/wp-content/uploads/2026/04/Once-Upon-A-Bookstore-Fall-River-Food-for-Thought-Kitchen-Witchery-for-Modern-Life.jpg
ORGANIZER;CN="Once Upon A Bookstore":MAILTO:serena@onceuponabookstore.com
END:VEVENT
END:VCALENDAR